BEGIN:VCALENDAR
VERSION:2.0
PRODID:-//Locansol, louer un hébergement dans les Pyrénées Orientales - ECPv6.15.13.1//NONSGML v1.0//EN
CALSCALE:GREGORIAN
METHOD:PUBLISH
X-ORIGINAL-URL:https://www.locansol.fr
X-WR-CALDESC:Évènements pour Locansol, louer un hébergement dans les Pyrénées Orientales
REFRESH-INTERVAL;VALUE=DURATION:PT1H
X-Robots-Tag:noindex
X-PUBLISHED-TTL:PT1H
BEGIN:VTIMEZONE
TZID:Europe/Paris
BEGIN:DAYLIGHT
TZOFFSETFROM:+0100
TZOFFSETTO:+0200
TZNAME:CEST
DTSTART:20250330T010000
END:DAYLIGHT
BEGIN:STANDARD
TZOFFSETFROM:+0200
TZOFFSETTO:+0100
TZNAME:CET
DTSTART:20251026T010000
END:STANDARD
BEGIN:DAYLIGHT
TZOFFSETFROM:+0100
TZOFFSETTO:+0200
TZNAME:CEST
DTSTART:20260329T010000
END:DAYLIGHT
BEGIN:STANDARD
TZOFFSETFROM:+0200
TZOFFSETTO:+0100
TZNAME:CET
DTSTART:20261025T010000
END:STANDARD
BEGIN:DAYLIGHT
TZOFFSETFROM:+0100
TZOFFSETTO:+0200
TZNAME:CEST
DTSTART:20270328T010000
END:DAYLIGHT
BEGIN:STANDARD
TZOFFSETFROM:+0200
TZOFFSETTO:+0100
TZNAME:CET
DTSTART:20271031T010000
END:STANDARD
END:VTIMEZONE
BEGIN:VEVENT
DTSTART;VALUE=DATE:20260221
DTEND;VALUE=DATE:20260307
DTSTAMP:20260423T151142
CREATED:20260225T130713Z
LAST-MODIFIED:20260225T130715Z
UID:10000236-1771632000-1772841599@www.locansol.fr
SUMMARY:BOUQUET DE CONTES PAR DOMINIQUE\, COMPAGN'ARTS
DESCRIPTION:L’événement « Bouquet de contes par Dominique\, Compagn’Arts » se tiendra à la Médiathèque Prosper Mérimée de Saint-Cyprien le mercredi 25 février de 16h à 17h. Dominique Morin\, conteuse talentueuse\, proposera un assortiment d’histoires\, y compris une adaptation de l’album « Le trésor de Georges » d’Anne-Sophie Plat. \nL’événement invite les petits et grands à un voyage réflexif en famille. Dominique Morin\, conteuse expérimentée\, présentera une sélection de contes adaptés à tous les âges. Parmi les histoires\, « Le trésor de Georges »\, inspiré de l’album d’Anne-Sophie Plat\, promet d’être un moment fort. La séance est conçue pour que les enfants\, petits et grands\, ainsi que les adultes\, petits ou grands\, puissent profiter ensemble de ce moment de partage. \nCe spectacle est une occasion idéale pour passer un moment convivial en famille. Les contes choisis offrent une réflexion accessible à tous\, permettant aux enfants et aux adultes de s’évader et de rêver ensemble. L’ambiance chaleureuse de la Médiathèque Prosper Mérimée et le talent de Dominique Morin garantissent un moment agréable et enrichissant. La réservation est recommandée pour assurer votre place et profiter pleinement de cette expérience culturelle. L’entrée est gratuite. \n \nRéservez votre hébergement dans les Pyrénées-Orientales :\nMobil-home Locansol à Argelès-sur-MerTrajet le plus court : 9 kmTrajet le plus rapide : 13 min \nChalet Locansol à EstavarTrajet le plus court : 112 kmTrajet le plus rapide : 1 h 46 min
URL:https://www.locansol.fr/evenement/bouquet-de-contes-par-dominique-compagnarts/
LOCATION:Médiathèque Prosper Mérimée\, Saint-Cyprien\, Médiathèque Prosper Mérimée\, Saint-Cyprien\, 66750\, France
CATEGORIES:Conte,Évènement Culturel,Pour enfant,Pyrénées-Orientales,Spectacle
ATTACH;FMTTYPE=image/webp:https://www.locansol.fr/wp-content/uploads/2026/02/vacances-hiver-tautavel-musee-1.webp
END:VEVENT
END:VCALENDAR