BEGIN:VCALENDAR
VERSION:2.0
PRODID:-//Locansol, louer un hébergement dans les Pyrénées Orientales - ECPv6.15.13.1//NONSGML v1.0//EN
CALSCALE:GREGORIAN
METHOD:PUBLISH
X-ORIGINAL-URL:https://www.locansol.fr
X-WR-CALDESC:Évènements pour Locansol, louer un hébergement dans les Pyrénées Orientales
REFRESH-INTERVAL;VALUE=DURATION:PT1H
X-Robots-Tag:noindex
X-PUBLISHED-TTL:PT1H
BEGIN:VTIMEZONE
TZID:Europe/Paris
BEGIN:DAYLIGHT
TZOFFSETFROM:+0100
TZOFFSETTO:+0200
TZNAME:CEST
DTSTART:20250330T010000
END:DAYLIGHT
BEGIN:STANDARD
TZOFFSETFROM:+0200
TZOFFSETTO:+0100
TZNAME:CET
DTSTART:20251026T010000
END:STANDARD
BEGIN:DAYLIGHT
TZOFFSETFROM:+0100
TZOFFSETTO:+0200
TZNAME:CEST
DTSTART:20260329T010000
END:DAYLIGHT
BEGIN:STANDARD
TZOFFSETFROM:+0200
TZOFFSETTO:+0100
TZNAME:CET
DTSTART:20261025T010000
END:STANDARD
BEGIN:DAYLIGHT
TZOFFSETFROM:+0100
TZOFFSETTO:+0200
TZNAME:CEST
DTSTART:20270328T010000
END:DAYLIGHT
BEGIN:STANDARD
TZOFFSETFROM:+0200
TZOFFSETTO:+0100
TZNAME:CET
DTSTART:20271031T010000
END:STANDARD
END:VTIMEZONE
BEGIN:VEVENT
DTSTART;VALUE=DATE:20260101
DTEND;VALUE=DATE:20260701
DTSTAMP:20260419T171139
CREATED:20260216T010421Z
LAST-MODIFIED:20260216T010424Z
UID:10000110-1767225600-1782863999@www.locansol.fr
SUMMARY:PERPIGNAN\, VITRINE DE L'ART DÉCO DES ANNÉES 30
DESCRIPTION:À la Casa Xanxo\, à Perpignan\, une exposition intitulée « Perpignan\, vitrine de l’Art déco des années 30 » est proposée du 1er janvier au 30 juin 2026. Elle marque le centenaire de l’exposition des Arts Décoratifs de Paris de 1925\, qui a donné son nom à l’Art Déco dans les années 1960. Conçue par Philippe Latger\, cette manifestation met en lumière le patrimoine architectural remarquable de la ville\, issu de la période entre les deux guerres. Plus de mille bâtiments\, dont de nombreux édifices de style paquebot\, ont façonné l’identité urbaine de Perpignan. Les éléments caractéristiques — hublots\, bastingages\, pergolas ou mâts de pavillon — sont au cœur de l’exploration. Située dans un lieu historique\, ancienne demeure d’un négociant du XVIe siècle\, la Casa Xanxo abrite depuis 2017 le Centre d’interprétation de l’architecture et du patrimoine (CIAP). L’exposition est gratuite et accessible à tous. Elle s’adresse à un public intéressé par l’histoire locale\, l’architecture moderne\, ou simplement curieux de découvrir une facette méconnue de la ville. Elle propose une découverte sensible du style Art Déco à travers des documents\, des photographies\, des plans d’architecture et des objets d’époque\, offrant un regard complet sur un héritage architectural exceptionnel. \n \nRéservez votre hébergement dans les Pyrénées-Orientales :\nMobil-home Locansol à Argelès-sur-MerTrajet le plus court : 26 kmTrajet le plus rapide : 31 min \nChalet Locansol à EstavarTrajet le plus court : 104 kmTrajet le plus rapide : 1 h 40 min
URL:https://www.locansol.fr/evenement/perpignan-vitrine-de-lart-deco-des-annees-30/
LOCATION:Casa Xanxo\, Perpignan\, Casa Xanxo\, 66410\, France
CATEGORIES:Évènement Culturel,Exposition,Histoire,Pyrénées-Orientales
ATTACH;FMTTYPE=image/webp:https://www.locansol.fr/wp-content/uploads/2026/02/art-deco-perpignan-exposition.webp
END:VEVENT
BEGIN:VEVENT
DTSTART;VALUE=DATE:20260115
DTEND;VALUE=DATE:20270101
DTSTAMP:20260419T171139
CREATED:20260216T151037Z
LAST-MODIFIED:20260216T151039Z
UID:10000128-1768435200-1798761599@www.locansol.fr
SUMMARY:ET LA LUMIÈRE FUT !
DESCRIPTION:L’exposition « Et la lumière fut ! » est organisée au musée Casa Pairal\, situé dans le Castillet à Perpignan\, du 15 janvier au 31 décembre 2026. Elle explore l’évolution des sources de lumière artificielle\, de l’antiquité à l’ère moderne et au-delà\, à travers les collections du musée. L’exposition met en lumière les progrès techniques\, culturels et sociaux liés à l’éclairage\, soulignant son rôle fondamental dans l’histoire de l’humanité. Installé depuis 1963 dans l’ancienne porte de la ville\, le Castillet abrite aujourd’hui un musée dédié à l’histoire\, aux traditions populaires et à l’ethnographie du Roussillon. La visite du musée inclut une exposition temporaire et une montée aux 142 marches du donjon\, offrant une vue panoramique à 360° sur la ville et les montagnes environnantes. L’accès à l’exposition est ouvert du mardi au dimanche\, avec des horaires variables selon la période : de 11h à 17h30 du 15 janvier au 31 mai\, puis de 10h30 à 17h30 du 1er juin au 30 septembre. Le tarif plein est fixé à 2\,00 €. L’événement s’inscrit dans le cadre d’une programmation culturelle et patrimoniale accessible au grand public\, offrant une découverte immersive du passé\, du présent et des perspectives futures de l’éclairage. \n \nRéservez votre hébergement dans les Pyrénées-Orientales :\nMobil-home Locansol à Argelès-sur-MerTrajet le plus court : 26 kmTrajet le plus rapide : 31 min \nChalet Locansol à EstavarTrajet le plus court : 104 kmTrajet le plus rapide : 1 h 40 min
URL:https://www.locansol.fr/evenement/et-la-lumiere-fut/
LOCATION:CASA PAIRAL – CASTILLET\, Perpignan\, CASA PAIRAL - CASTILLET\, 66410\, France
CATEGORIES:Évènement Culturel,Exposition,Pyrénées-Orientales
ATTACH;FMTTYPE=image/webp:https://www.locansol.fr/wp-content/uploads/2026/02/exposition-lumiere-perpignan-castillet.webp
END:VEVENT
BEGIN:VEVENT
DTSTART;VALUE=DATE:20260210
DTEND;VALUE=DATE:20261212
DTSTAMP:20260419T171139
CREATED:20260216T150325Z
LAST-MODIFIED:20260216T150328Z
UID:10000126-1770681600-1797033599@www.locansol.fr
SUMMARY:EXPOSITION SUR CHARLES RENNIE MACKINTOSH
DESCRIPTION:L’exposition permanente dédiée à Charles Rennie Mackintosh s’installe au musée El Casal\, à Palalda\, dans les Pyrénées-Orientales. Ouverte de mi-février à mi-décembre\, elle présente le parcours artistique et humain de cet architecte\, designer et peintre britannique né en 1868 à Glasgow. Mackintosh est reconnu comme l’un des pionniers de l’art nouveau et du modernisme. En 1923\, il s’installe à Amélie-les-Bains avec son épouse Margaret\, souffrant d’asthme\, dans l’espoir d’améliorer sa santé. Il choisit de rester dans la région jusqu’à sa mort\, en 1928\, et s’inscrit profondément dans le paysage culturel du Roussillon. L’exposition au musée El Casal retrace ce chapitre majeur de sa vie\, mettant en lumière ses projets\, ses dessins\, ses aquarelles\, ainsi que son influence sur l’architecture et les arts décoratifs. Situé au cœur de la cité médiévale de Palalda\, le musée propose une visite immersive à travers des documents d’archive\, des maquettes et des œuvres d’art. Les horaires d’ouverture sont les suivants : mardi de 14h à 19h\, et du mercredi au dimanche de 10h à 12h et de 15h à 19h. Le musée est fermé les jours fériés. L’entrée est gratuite\, ouverte à tous les publics. Cette exposition constitue une occasion unique de découvrir l’œuvre d’un artiste majeur du XXe siècle\, à travers le cadre particulier de la région qu’il a aimée et où il a trouvé sa dernière demeure. \n \nRéservez votre hébergement dans les Pyrénées-Orientales :\nMobil-home Locansol à Argelès-sur-MerTrajet le plus court : 36 kmTrajet le plus rapide : 41 min \nChalet Locansol à EstavarTrajet le plus court : 128 kmTrajet le plus rapide : 2 h 2 min
URL:https://www.locansol.fr/evenement/exposition-sur-charles-rennie-mackintosh/
LOCATION:Musée El Casal\, Amélie-les-Bains-Palalda\, Musée El Casal\, Amélie-les-Bains-Palalda\, 66110\, France
CATEGORIES:Évènement Culturel,Exposition,Peinture,Pyrénées-Orientales
ATTACH;FMTTYPE=image/webp:https://www.locansol.fr/wp-content/uploads/2026/02/exposition-mackintosh-amelie-les-bains.webp
END:VEVENT
BEGIN:VEVENT
DTSTART;VALUE=DATE:20260326
DTEND;VALUE=DATE:20261101
DTSTAMP:20260419T171139
CREATED:20260401T101421Z
LAST-MODIFIED:20260401T101426Z
UID:10000470-1774483200-1793491199@www.locansol.fr
SUMMARY:« LES FLEURS DU SILENCE »
DESCRIPTION:L’exposition « Les Fleurs du Silence » à Perpignan\, du 26 mars au 31 octobre\, propose une immersion visuelle dans la procession de la Sanch. La photographe capture le contraste entre la dévotion religieuse et la modernité\, mettant en lumière l’intensité du recueillement collectif. Les photos révèlent une ambiance marquée par le silence\, le deuil et la prière\, ponctuée par les tambours. Les couleurs et la lumière des images apportent un espoir et un renouveau spirituel\, tandis que les expressions des participants témoignent de la profondeur de cette tradition. L’exposition\, gratuite\, se tient à l’Ancien Évêché de Perpignan. Cette tradition\, reconnue comme patrimoine culturel immatériel\, est un incontournable pour comprendre l’âme de Perpignan. \n \nRéservez votre hébergement dans les Pyrénées-Orientales :\nMobil-home Locansol à Argelès-sur-MerTrajet le plus court : 26 kmTrajet le plus rapide : 31 min \nChalet Locansol à EstavarTrajet le plus court : 104 kmTrajet le plus rapide : 1 h 40 min
URL:https://www.locansol.fr/evenement/les-fleurs-du-silence/
LOCATION:ANCIEN EVECHE\, Perpignan\, ANCIEN EVECHE\, 66410\, France
CATEGORIES:Évènement Culturel,Exposition,Pyrénées-Orientales
ATTACH;FMTTYPE=image/webp:https://www.locansol.fr/wp-content/uploads/2026/04/exposition-fleurs-silence-perpignan.webp
END:VEVENT
BEGIN:VEVENT
DTSTART;VALUE=DATE:20260401
DTEND;VALUE=DATE:20260627
DTSTAMP:20260419T171139
CREATED:20260409T124008Z
LAST-MODIFIED:20260409T124014Z
UID:10000520-1775001600-1782518399@www.locansol.fr
SUMMARY:EXPOSITION TEMPORAIRE « CHOCOLAT & AUTRES DOUCERURS NORD-CATALANES »
DESCRIPTION:Du 1er avril au 26 juin 2026\, la Maison de l’Histoire – Casa del Voló\, au Boulou\, invite le public à un voyage savoureux à travers le temps avec une exposition inédite consacrée à l’épopée du chocolat et à l’univers de la confiserie en Catalogne Nord. Cette exposition est présentée grâce au prêt du musée Casa Pairal de la Ville de Perpignan\, mettant en lumière un patrimoine local d’une grande richesse.  L’exposition « Chocolat & autres doucerurs nord-catalanes » propose une plongée dans l’histoire et les traditions gourmandes de la région. Le public pourra découvrir l’évolution du chocolat et des confiseries à travers des objets\, des documents d’archive et des reconstitutions. L’exposition mettra en avant les savoir-faire locaux\, les recettes traditionnelles et les anecdotes liées à ces douceurs. Des ateliers et des dégustations seront également proposés pour une immersion totale dans cet univers sucré.  Cette exposition est une occasion unique de découvrir ou redécouvrir le patrimoine gastronomique de la Catalogne Nord. Elle s’adresse à tous les publics\, petits et grands\, amateurs de chocolat ou simples curieux. L’entrée est gratuite\, ce qui permet à chacun de profiter de cette expérience culturelle et gourmande sans contrainte. Les visites flash et les ateliers mensuels autour de l’exposition permettront au public de profiter pleinement de l’expérience.  L’Espace Culturel Teresa Rebull\, où se tiendra l’exposition\, est un lieu idéal pour ce type d’événement. Situé au cœur du Boulou\, il offre un cadre agréable et facile d’accès. La Maison de l’Histoire – Casa del Voló est un espace dédié à la valorisation du patrimoine local\, ce qui en fait le lieu parfait pour accueillir cette exposition.  En résumé\, l’exposition « Chocolat & autres doucerurs nord-catalanes » est un rendez-vous à ne pas manquer pour tous ceux qui souhaitent découvrir l’histoire et les traditions gourmandes de la Catalogne Nord. L’entrée gratuite et la richesse du contenu proposé en font un événement accessible et attrayant pour tous. \n \nRéservez votre hébergement dans les Pyrénées-Orientales :\nMobil-home Locansol à Argelès-sur-MerTrajet le plus court : 20 kmTrajet le plus rapide : 23 min \nChalet Locansol à EstavarTrajet le plus court : 115 kmTrajet le plus rapide : 1 h 45 min
URL:https://www.locansol.fr/evenement/exposition-temporaire-chocolat-autres-doucerurs-nord-catalanes/
LOCATION:Espace culturel Teresa Rebull\, Le Boulou\, Espace culturel Teresa Rebull\, Le Boulou\, 66160\, France
CATEGORIES:Évènement Culturel,Exposition,Gastronomie,Pyrénées-Orientales,Traditions et folklore
ATTACH;FMTTYPE=image/webp:https://www.locansol.fr/wp-content/uploads/2026/04/exposition-chocolat-confiseries-catalanes.webp
END:VEVENT
BEGIN:VEVENT
DTSTART;VALUE=DATE:20260402
DTEND;VALUE=DATE:20260629
DTSTAMP:20260419T171139
CREATED:20260406T140859Z
LAST-MODIFIED:20260406T140906Z
UID:10000494-1775088000-1782691199@www.locansol.fr
SUMMARY:PEINTURE NOMADE - COME ESTÈVE
DESCRIPTION:L’exposition « Peinture Nomade » de Roger Cosme Estève se tiendra du 2 avril au 28 juin à la Loge de Mer de Perpignan. Cet événement met en lumière le travail de cet artiste catalan profondément attaché à ses racines et à son territoire natal de Néfiach\, tout en étant marqué par ses nombreux voyages à travers le monde. Roger Cosme Estève est né en 1945 à Néfiach\, dans les Pyrénées-Orientales. Il est reconnu pour son style unique\, qui ne se laisse pas facilement classer\, ni totalement figuratif ni abstrait. Ses œuvres mêlent influences contemporaines et classiques\, et se caractérisent par une grande liberté artistique. La peinture de Cosme Estève est souvent dominée par le noir\, mais elle s’ouvre également à des couleurs vives\, créant un mouvement perpétuel qui reflète son « nomadisme » artistique. L’exposition « Peinture Nomade » explore ce dialogue constant entre enracinement et ouverture au monde. Les visiteurs pourront découvrir des œuvres qui témoignent des dix dernières années de travail de l’artiste\, marquées par une évolution constante. L’exposition est également l’occasion de célébrer un artiste majeur du territoire\, qui continue d’évoluer et de surprendre. Cette exposition est une invitation à découvrir l’univers riche et complexe de Roger Cosme Estève. Que l’on soit amateur d’art ou simple curieux\, cet événement offre une plongée fascinante dans le monde d’un artiste qui a su transcender les frontières et les styles. L’entrée est gratuite\, ce qui rend l’événement accessible à tous. Ne manquez pas cette opportunité de vous immerger dans l’œuvre d’un artiste catalan de renom\, dont la peinture nomade continue de captiver et d’inspirer. L’exposition « Peinture Nomade » de Roger Cosme Estève est un rendez-vous incontournable pour tous les amateurs d’art. La Loge de Mer de Perpignan accueille cet événement du 2 avril au 28 juin\, offrant une occasion unique de découvrir le travail de cet artiste catalan. L’entrée est gratuite\, rendant l’exposition accessible à tous. Ne manquez pas cette chance de vous plonger dans l’univers riche et captivant de Roger Cosme Estève. \n \nRéservez votre hébergement dans les Pyrénées-Orientales :\nMobil-home Locansol à Argelès-sur-MerTrajet le plus court : 26 kmTrajet le plus rapide : 31 min \nChalet Locansol à EstavarTrajet le plus court : 104 kmTrajet le plus rapide : 1 h 40 min
URL:https://www.locansol.fr/evenement/peinture-nomade-come-esteve/
LOCATION:LOGE DE MER\, Perpignan\, LOGE DE MER\, 66410\, France
CATEGORIES:Évènement Culturel,Exposition,Pyrénées-Orientales
ATTACH;FMTTYPE=image/webp:https://www.locansol.fr/wp-content/uploads/2026/04/exposition-peinture-nomade-perpignan.webp
END:VEVENT
BEGIN:VEVENT
DTSTART;VALUE=DATE:20260402
DTEND;VALUE=DATE:20260629
DTSTAMP:20260419T171139
CREATED:20260414T020947Z
LAST-MODIFIED:20260414T020950Z
UID:10000570-1775088000-1782691199@www.locansol.fr
SUMMARY:PEINTURE NOMADE - ROGER COSME ESTÈVE
DESCRIPTION:**Peinture Nomade**  2 avril – 28 juin 2026  Loge de Mer\, Perpignan  **Introduction**  Du 2 avril au 28 juin 2026\, la Loge de Mer de Perpignan accueille l’exposition « Peinture Nomade » de Roger Cosme Estève. Cet événement met en lumière le travail de cet artiste catalan\, profondément attaché à ses racines tout en étant marqué par ses nombreux voyages à travers le monde. L’exposition est ouverte du mardi au dimanche de 11 h 00 à 17 h 30\, avec une entrée libre pour tous les visiteurs.  **Développement**  Roger Cosme Estève\, né à Néfiach\, est un peintre dont l’œuvre reflète un profond attachement à sa terre natale et à la culture catalane. Depuis plus de quarante ans\, il exprime dans ses tableaux les motifs locaux avec une grande maîtrise. Son art\, bien que fortement enraciné\, est également influencé par ses nombreux voyages\, ce qui lui confère une grande liberté artistique. Ni totalement figuratif ni abstrait\, le style de Roger Cosme Estève mêle influences contemporaines et classiques\, échappant ainsi aux courants et aux écoles traditionnelles.  L’exposition « Peinture Nomade » présente des œuvres qui illustrent ce dialogue constant entre enracinement et ouverture au monde. Les tableaux de Roger Cosme Estève sont souvent dominés par le noir\, mais ils s’ouvrent également à des couleurs vives\, créant un mouvement perpétuel qui caractérise son travail. Ce « nomadisme » artistique est au cœur de l’exposition\, invitant les visiteurs à découvrir un artiste en constante évolution.  **Raisons de s’y rendre**  L’exposition « Peinture Nomade » offre une occasion unique de découvrir ou redécouvrir l’œuvre de Roger Cosme Estève. Son approche artistique\, à la fois ancrée et universelle\, promet une expérience visuelle riche et variée. La Loge de Mer\, avec son cadre historique\, ajoute une dimension supplémentaire à cette exposition\, permettant aux visiteurs de s’immerger pleinement dans l’univers de l’artiste. L’entrée libre rend cet événement accessible à tous\, faisant de cette exposition un rendez-vous culturel incontournable à Perpignan.  **Informations pratiques**  – **Dates** : Du 2 avril au 28 juin 2026 – **Lieu** : Loge de Mer\, Place de la Loge\, Perpignan – **Horaires** : Ouvert du mardi au dimanche\, de 11 h 00 à 17 h 30 – **Entrée** : Libre  L’exposition « Peinture Nomade » de Roger Cosme Estève est une invitation à un voyage artistique\, où tradition et modernité se rencontrent pour offrir une expérience visuelle unique.  L’exposition « Peinture Nomade » de Roger Cosme Estève à la Loge de Mer de Perpignan est un événement à ne pas manquer pour tous les amateurs d’art. Du 2 avril au 28 juin 2026\, venez découvrir les œuvres d’un artiste catalan dont le talent et la vision artistique transcendent les frontières. Entrée libre. \n \nRéservez votre hébergement dans les Pyrénées-Orientales :\nMobil-home Locansol à Argelès-sur-MerTrajet le plus court : 26 kmTrajet le plus rapide : 31 min \nChalet Locansol à EstavarTrajet le plus court : 104 kmTrajet le plus rapide : 1 h 40 min
URL:https://www.locansol.fr/evenement/peinture-nomade-roger-cosme-esteve/
LOCATION:LOGE DE MER\, Perpignan\, LOGE DE MER\, 66410\, France
CATEGORIES:Évènement Culturel,Exposition,Pyrénées-Orientales
ATTACH;FMTTYPE=image/webp:https://www.locansol.fr/wp-content/uploads/2026/04/exposition-peinture-nomade-perpignan-1.webp
END:VEVENT
BEGIN:VEVENT
DTSTART;VALUE=DATE:20260409
DTEND;VALUE=DATE:20260624
DTSTAMP:20260419T171139
CREATED:20260409T141322Z
LAST-MODIFIED:20260409T141327Z
UID:10000524-1775692800-1782259199@www.locansol.fr
SUMMARY:EXPOSITION TEMPORAIRE “STANDING STILL”
DESCRIPTION:L’exposition « Standing Still » de Victoria Milroy est une invitation à la contemplation et à la réflexion sur le temps qui passe. Cette exposition temporaire se tiendra du 9 avril au 23 juin 2026 au Centre de Sculpture Romane de Cabestany\, offrant aux visiteurs une expérience artistique unique. Le vernissage de l’exposition aura lieu le 9 avril à 18h30\, avec une entrée gratuite et sans inscription préalable. Cette soirée sera l’occasion idéale pour découvrir les œuvres de Victoria Milroy et échanger avec d’autres amateurs d’art. L’exposition sera ouverte au public du mardi au dimanche\, de 10h à 12h30 et de 13h30 à 18h\, avec une fermeture de la billetterie à 17h15. L’entrée est gratuite pour les enfants de moins de 12 ans et pour les habitants de Cabestany (sur justificatif de domicile)\, tandis que le plein tarif est de 4\,00 €. Victoria Milroy\, l’artiste à l’origine de « Standing Still »\, explore à travers ses œuvres les notions de temps\, de contemplation et d’immobilité. Dans une époque où le mouvement constant domine\, l’exposition invite les visiteurs à prendre un moment pour s’arrêter et réfléchir. Les sculptures et installations de Milroy créent un espace propice à la méditation\, permettant à chacun de se reconnecter avec lui-même. Le Centre de Sculpture Romane\, situé au cœur du Parc Guillem à Cabestany\, est un lieu dédié à la promotion de la sculpture contemporaine. Ce cadre exceptionnel ajoute une dimension supplémentaire à l’expérience de l’exposition\, offrant un environnement paisible et inspirant. L’exposition « Standing Still » est une opportunité rare de découvrir le travail de Victoria Milroy dans un cadre unique. Que vous soyez un amateur d’art\, un passionné de sculpture ou simplement curieux de découvrir de nouvelles perspectives\, cette exposition promet d’être une expérience enrichissante. En résumé\, l’exposition « Standing Still » de Victoria Milroy au Centre de Sculpture Romane de Cabestany est un événement à ne pas manquer. Avec son approche contemplative et son cadre exceptionnel\, elle offre une pause bienvenue dans le rythme effréné de la vie quotidienne. Ne manquez pas cette occasion de vous immerger dans l’univers artistique de Victoria Milroy et de redécouvrir l’importance de prendre le temps de s’arrêter et de contempler. \n \nRéservez votre hébergement dans les Pyrénées-Orientales :\nMobil-home Locansol à Argelès-sur-MerTrajet le plus court : 21 kmTrajet le plus rapide : 20 min \nChalet Locansol à EstavarTrajet le plus court : 102 kmTrajet le plus rapide : 1 h 39 min
URL:https://www.locansol.fr/evenement/exposition-temporaire-standing-still/
LOCATION:Parc Guillem\, Cabestany\, Parc Guillem\, Cabestany\, 66330\, France
CATEGORIES:Évènement Culturel,Exposition,Pyrénées-Orientales
ATTACH;FMTTYPE=image/webp:https://www.locansol.fr/wp-content/uploads/2026/04/exposition-contemplative-cabestany-art.webp
END:VEVENT
BEGIN:VEVENT
DTSTART;VALUE=DATE:20260411
DTEND;VALUE=DATE:20260815
DTSTAMP:20260419T171139
CREATED:20260414T140949Z
LAST-MODIFIED:20260414T140951Z
UID:10000571-1775865600-1786751999@www.locansol.fr
SUMMARY:EXPOSITION AUTOUR DU CLOCHER DE COLLIOURE
DESCRIPTION:L’exposition « Points 2 Vue® autour du clocher de Collioure » se tiendra du 11 avril au 14 août 2026 au Château royal de Collioure. \nCette manifestation photographique célèbre les 30 ans des cadres « Points 2 Vue® »\, créés par Marc-André de Figueres en 1995. Ces douze sculptures-cadres\, installées autour du clocher\, offrent des perspectives uniques sur ce monument emblématique. L’exposition présentera une sélection des photographies primées lors d’un concours organisé l’été dernier\, ainsi que les douze cadres originaux. Le vernissage aura lieu le vendredi 10 avril à 18h30. \nL’exposition est ouverte tous les jours de 10h à 18h du 1er avril au 30 juin\, et de 9h30 à 18h30 du 1er juillet au 31 août. Le Château royal de Collioure\, en partenariat avec la Ville de Collioure et la MA2F Galerie\, propose un parcours artistique qui invite les visiteurs à photographier et partager leur regard sur Collioure. Chaque jour\, près de quatre mille clichés sont réalisés grâce à ce dispositif. \nCette exposition est une occasion unique de découvrir ou redécouvrir le patrimoine de Collioure à travers le regard des habitants et des visiteurs. Les photographies primées et les cadres originaux offrent une immersion dans l’histoire et la créativité artistique locale. L’ambiance conviviale et la beauté des lieux en font une sortie culturelle incontournable pour tous les amateurs de photographie et de patrimoine. \nTarif : 9\,00 € \nInformations pratiques : Renseignements au 04 68 82 06 43 ou sur points2vue.net \n \nRéservez votre hébergement dans les Pyrénées-Orientales :\nMobil-home Locansol à Argelès-sur-MerTrajet le plus court : 8 kmTrajet le plus rapide : 14 min \nChalet Locansol à EstavarTrajet le plus court : 125 kmTrajet le plus rapide : 1 h 56 min
URL:https://www.locansol.fr/evenement/exposition-autour-du-clocher-de-collioure/
LOCATION:Quai de l’Amirauté\, Collioure\, Quai de l'Amirauté\, Collioure\, 66190\, France
CATEGORIES:Évènement Culturel,Exposition,Pyrénées-Orientales
ATTACH;FMTTYPE=image/webp:https://www.locansol.fr/wp-content/uploads/2026/04/exposition-photographique-collioure-clochers.webp
END:VEVENT
BEGIN:VEVENT
DTSTART;VALUE=DATE:20260414
DTEND;VALUE=DATE:20260614
DTSTAMP:20260419T171139
CREATED:20260417T201858Z
LAST-MODIFIED:20260417T201900Z
UID:10000594-1776124800-1781395199@www.locansol.fr
SUMMARY:EXPOSITION « À LA MÉMOIRE DE MA MÈRE »
DESCRIPTION:L’exposition « À la mémoire de ma mère » de l’artiste Raphaëlle Pac se tiendra à Amélie-les-Bains-Palalda du 14 avril au 13 juin 2026. Située sur la Place de la Nation\, cette exposition sera ouverte au public du mardi au dimanche\, de 14h à 18h30\, avec une entrée gratuite.  L’exposition « À la mémoire de ma mère » est une exploration intime et poignante de l’artiste Raphaëlle Pac\, qui rend hommage à sa mère à travers une série de peintures émouvantes. Le public pourra découvrir des œuvres variées qui reflètent les souvenirs et les émotions personnelles de l’artiste. Les tableaux exposés offrent un aperçu unique de la relation mère-fille\, mettant en lumière des moments de tendresse\, de joie et de nostalgie. L’artiste utilise une palette de couleurs et des techniques variées pour exprimer la profondeur de ses sentiments et la richesse de ses souvenirs. L’exposition sera également accompagnée de plusieurs ateliers ouverts à tous\, permettant aux visiteurs de s’immerger davantage dans l’univers de l’artiste et de participer à des activités créatives. Ces ateliers sont conçus pour être accessibles à tous\, quelle que soit leur expérience artistique. Pour participer\, il est recommandé de s’inscrire au préalable au 07 69 99 48 82.  L’exposition « À la mémoire de ma mère » promet d’être une expérience émouvante et enrichissante pour tous les visiteurs. C’est une occasion unique de découvrir le travail d’une artiste locale talentueuse et de se plonger dans une réflexion sur la mémoire et les liens familiaux. L’ambiance intimiste de l’exposition et la beauté des œuvres présentées en font un événement à ne pas manquer pour les amateurs d’art et les curieux. \n \nRéservez votre hébergement dans les Pyrénées-Orientales :\nMobil-home Locansol à Argelès-sur-MerTrajet le plus court : 36 kmTrajet le plus rapide : 41 min \nChalet Locansol à EstavarTrajet le plus court : 128 kmTrajet le plus rapide : 2 h 2 min
URL:https://www.locansol.fr/evenement/exposition-a-la-memoire-de-ma-mere/
LOCATION:Place de la Nation\, Amélie-les-Bains-Palalda\, Place de la Nation\, Amélie-les-Bains-Palalda\, 66110\, France
CATEGORIES:Évènement Culturel,Exposition,Peinture,Pyrénées-Orientales
ATTACH;FMTTYPE=image/webp:https://www.locansol.fr/wp-content/uploads/2026/04/exposition-emouvante-memoire-mere.webp
END:VEVENT
BEGIN:VEVENT
DTSTART;VALUE=DATE:20260414
DTEND;VALUE=DATE:20260622
DTSTAMP:20260419T171139
CREATED:20260419T002413Z
LAST-MODIFIED:20260419T002415Z
UID:10000600-1776124800-1782086399@www.locansol.fr
SUMMARY:EXPOSITION DE PEINTURES ET AQUARELLES
DESCRIPTION:L’exposition « Emergences » à Sorède\, du 14 avril au 21 juin\, présente des œuvres uniques de peintures et aquarelles réalisées par des artistes locaux. Située à la mairie\, l’exposition est accessible aux horaires d’ouverture habituels\, du lundi au vendredi. Cette manifestation culturelle offre une occasion rare de découvrir la créativité et le talent des artistes de Sorède. L’entrée est gratuite\, permettant à tous de profiter de cette expérience artistique. Les visiteurs pourront admirer une variété de styles et de techniques\, reflétant la diversité et la richesse de la scène artistique locale. L’exposition « Emergences » est un rendez-vous incontournable pour les amateurs d’art et les curieux\, offrant un moment de détente et d’inspiration dans un cadre accueillant \n \nRéservez votre hébergement dans les Pyrénées-Orientales :\nMobil-home Locansol à Argelès-sur-MerTrajet le plus court : 8 kmTrajet le plus rapide : 12 min \nChalet Locansol à EstavarTrajet le plus court : 123 kmTrajet le plus rapide : 1 h 56 min
URL:https://www.locansol.fr/evenement/exposition-de-peintures-et-aquarelles/
LOCATION:Rue de la Caserne\, Sorède\, Rue de la Caserne\, Sorède\, 66690\, France
CATEGORIES:Évènement Culturel,Exposition,Loisirs,Peinture,Pyrénées-Orientales
ATTACH;FMTTYPE=image/webp:https://www.locansol.fr/wp-content/uploads/2026/04/exposition-emergences-sorede-art.webp
END:VEVENT
END:VCALENDAR