BEGIN:VCALENDAR
VERSION:2.0
PRODID:-//Locansol, louer un hébergement dans les Pyrénées Orientales - ECPv6.15.13.1//NONSGML v1.0//EN
CALSCALE:GREGORIAN
METHOD:PUBLISH
X-ORIGINAL-URL:https://www.locansol.fr
X-WR-CALDESC:Évènements pour Locansol, louer un hébergement dans les Pyrénées Orientales
REFRESH-INTERVAL;VALUE=DURATION:PT1H
X-Robots-Tag:noindex
X-PUBLISHED-TTL:PT1H
BEGIN:VTIMEZONE
TZID:Europe/Paris
BEGIN:DAYLIGHT
TZOFFSETFROM:+0100
TZOFFSETTO:+0200
TZNAME:CEST
DTSTART:20250330T010000
END:DAYLIGHT
BEGIN:STANDARD
TZOFFSETFROM:+0200
TZOFFSETTO:+0100
TZNAME:CET
DTSTART:20251026T010000
END:STANDARD
BEGIN:DAYLIGHT
TZOFFSETFROM:+0100
TZOFFSETTO:+0200
TZNAME:CEST
DTSTART:20260329T010000
END:DAYLIGHT
BEGIN:STANDARD
TZOFFSETFROM:+0200
TZOFFSETTO:+0100
TZNAME:CET
DTSTART:20261025T010000
END:STANDARD
BEGIN:DAYLIGHT
TZOFFSETFROM:+0100
TZOFFSETTO:+0200
TZNAME:CEST
DTSTART:20270328T010000
END:DAYLIGHT
BEGIN:STANDARD
TZOFFSETFROM:+0200
TZOFFSETTO:+0100
TZNAME:CET
DTSTART:20271031T010000
END:STANDARD
END:VTIMEZONE
BEGIN:VEVENT
DTSTART;VALUE=DATE:20260101
DTEND;VALUE=DATE:20260601
DTSTAMP:20260423T123146
CREATED:20260215T131416Z
LAST-MODIFIED:20260215T131418Z
UID:10000102-1767225600-1780271999@www.locansol.fr
SUMMARY:EXPOSITION - HISTOIRE ET ÉVOLUTION DE PERPIGNAN
DESCRIPTION:L’exposition « Histoire et évolution de Perpignan » est installée au sein de la Casa Xanxo\, un monument historique situé au 8\, rue de la Main de Fer à Perpignan. Ce lieu\, classé monument historique depuis 1919\, a été rénové et accueille depuis 2023 le Centre d’interprétation de l’architecture et du patrimoine (CIAP). L’exposition\, ouverte tous les jours du 1er janvier au 31 mai\, propose une visite interactive sur environ 600 m²\, articulée autour de trente dispositifs pédagogiques et ludiques. Parmi ceux-ci : des panneaux explicatifs\, des maquettes\, des cartes\, des écrans interactifs\, des diaporamas\, des projections et des jeux. Des témoignages de personnages historiques\, allant de Bernat Xanxo\, le riche drapier du XVe siècle qui fit construire la demeure\, à Salvador Dalí\, illustrent l’évolution urbaine\, architecturale et culturelle de la ville depuis son premier noyau au IXe siècle jusqu’à aujourd’hui. Le CIAP\, intégré au label « Ville d’art et d’histoire »\, vise à rendre accessible le patrimoine local en offrant des clés de lecture pour comprendre l’histoire de Perpignan. L’entrée est gratuite\, et la visite est adaptée à tous les publics\, y compris les familles et les scolaires. Ce lieu\, au cœur du centre ancien\, combine patrimoine architectural\, mémoire collective et innovation numérique pour offrir une expérience immersive et informative. \n \nRéservez votre hébergement dans les Pyrénées-Orientales :\nMobil-home Locansol à Argelès-sur-MerTrajet le plus court : 26 kmTrajet le plus rapide : 31 min \nChalet Locansol à EstavarTrajet le plus court : 104 kmTrajet le plus rapide : 1 h 40 min
URL:https://www.locansol.fr/evenement/exposition-histoire-et-evolution-de-perpignan/
LOCATION:8 Rue de la Main de Fer\, Perpignan\, 8 Rue de la Main de Fer\, 66410\, France
CATEGORIES:Évènement Culturel,Exposition,Histoire,Pyrénées-Orientales
ATTACH;FMTTYPE=image/webp:https://www.locansol.fr/wp-content/uploads/2026/02/histoire-evolution-perpignan-exposition.webp
END:VEVENT
BEGIN:VEVENT
DTSTART;VALUE=DATE:20260101
DTEND;VALUE=DATE:20260701
DTSTAMP:20260423T123146
CREATED:20260216T010421Z
LAST-MODIFIED:20260216T010424Z
UID:10000110-1767225600-1782863999@www.locansol.fr
SUMMARY:PERPIGNAN\, VITRINE DE L'ART DÉCO DES ANNÉES 30
DESCRIPTION:À la Casa Xanxo\, à Perpignan\, une exposition intitulée « Perpignan\, vitrine de l’Art déco des années 30 » est proposée du 1er janvier au 30 juin 2026. Elle marque le centenaire de l’exposition des Arts Décoratifs de Paris de 1925\, qui a donné son nom à l’Art Déco dans les années 1960. Conçue par Philippe Latger\, cette manifestation met en lumière le patrimoine architectural remarquable de la ville\, issu de la période entre les deux guerres. Plus de mille bâtiments\, dont de nombreux édifices de style paquebot\, ont façonné l’identité urbaine de Perpignan. Les éléments caractéristiques — hublots\, bastingages\, pergolas ou mâts de pavillon — sont au cœur de l’exploration. Située dans un lieu historique\, ancienne demeure d’un négociant du XVIe siècle\, la Casa Xanxo abrite depuis 2017 le Centre d’interprétation de l’architecture et du patrimoine (CIAP). L’exposition est gratuite et accessible à tous. Elle s’adresse à un public intéressé par l’histoire locale\, l’architecture moderne\, ou simplement curieux de découvrir une facette méconnue de la ville. Elle propose une découverte sensible du style Art Déco à travers des documents\, des photographies\, des plans d’architecture et des objets d’époque\, offrant un regard complet sur un héritage architectural exceptionnel. \n \nRéservez votre hébergement dans les Pyrénées-Orientales :\nMobil-home Locansol à Argelès-sur-MerTrajet le plus court : 26 kmTrajet le plus rapide : 31 min \nChalet Locansol à EstavarTrajet le plus court : 104 kmTrajet le plus rapide : 1 h 40 min
URL:https://www.locansol.fr/evenement/perpignan-vitrine-de-lart-deco-des-annees-30/
LOCATION:Casa Xanxo\, Perpignan\, Casa Xanxo\, 66410\, France
CATEGORIES:Évènement Culturel,Exposition,Histoire,Pyrénées-Orientales
ATTACH;FMTTYPE=image/webp:https://www.locansol.fr/wp-content/uploads/2026/02/art-deco-perpignan-exposition.webp
END:VEVENT
END:VCALENDAR