BEGIN:VCALENDAR
VERSION:2.0
PRODID:-//Locansol, louer un hébergement dans les Pyrénées Orientales - ECPv6.15.13.1//NONSGML v1.0//EN
CALSCALE:GREGORIAN
METHOD:PUBLISH
X-ORIGINAL-URL:https://www.locansol.fr
X-WR-CALDESC:Évènements pour Locansol, louer un hébergement dans les Pyrénées Orientales
REFRESH-INTERVAL;VALUE=DURATION:PT1H
X-Robots-Tag:noindex
X-PUBLISHED-TTL:PT1H
BEGIN:VTIMEZONE
TZID:Europe/Paris
BEGIN:DAYLIGHT
TZOFFSETFROM:+0100
TZOFFSETTO:+0200
TZNAME:CEST
DTSTART:20250330T010000
END:DAYLIGHT
BEGIN:STANDARD
TZOFFSETFROM:+0200
TZOFFSETTO:+0100
TZNAME:CET
DTSTART:20251026T010000
END:STANDARD
BEGIN:DAYLIGHT
TZOFFSETFROM:+0100
TZOFFSETTO:+0200
TZNAME:CEST
DTSTART:20260329T010000
END:DAYLIGHT
BEGIN:STANDARD
TZOFFSETFROM:+0200
TZOFFSETTO:+0100
TZNAME:CET
DTSTART:20261025T010000
END:STANDARD
BEGIN:DAYLIGHT
TZOFFSETFROM:+0100
TZOFFSETTO:+0200
TZNAME:CEST
DTSTART:20270328T010000
END:DAYLIGHT
BEGIN:STANDARD
TZOFFSETFROM:+0200
TZOFFSETTO:+0100
TZNAME:CET
DTSTART:20271031T010000
END:STANDARD
END:VTIMEZONE
BEGIN:VEVENT
DTSTART;VALUE=DATE:20260101
DTEND;VALUE=DATE:20260601
DTSTAMP:20260423T123141
CREATED:20260215T131416Z
LAST-MODIFIED:20260215T131418Z
UID:10000102-1767225600-1780271999@www.locansol.fr
SUMMARY:EXPOSITION - HISTOIRE ET ÉVOLUTION DE PERPIGNAN
DESCRIPTION:L’exposition « Histoire et évolution de Perpignan » est installée au sein de la Casa Xanxo\, un monument historique situé au 8\, rue de la Main de Fer à Perpignan. Ce lieu\, classé monument historique depuis 1919\, a été rénové et accueille depuis 2023 le Centre d’interprétation de l’architecture et du patrimoine (CIAP). L’exposition\, ouverte tous les jours du 1er janvier au 31 mai\, propose une visite interactive sur environ 600 m²\, articulée autour de trente dispositifs pédagogiques et ludiques. Parmi ceux-ci : des panneaux explicatifs\, des maquettes\, des cartes\, des écrans interactifs\, des diaporamas\, des projections et des jeux. Des témoignages de personnages historiques\, allant de Bernat Xanxo\, le riche drapier du XVe siècle qui fit construire la demeure\, à Salvador Dalí\, illustrent l’évolution urbaine\, architecturale et culturelle de la ville depuis son premier noyau au IXe siècle jusqu’à aujourd’hui. Le CIAP\, intégré au label « Ville d’art et d’histoire »\, vise à rendre accessible le patrimoine local en offrant des clés de lecture pour comprendre l’histoire de Perpignan. L’entrée est gratuite\, et la visite est adaptée à tous les publics\, y compris les familles et les scolaires. Ce lieu\, au cœur du centre ancien\, combine patrimoine architectural\, mémoire collective et innovation numérique pour offrir une expérience immersive et informative. \n \nRéservez votre hébergement dans les Pyrénées-Orientales :\nMobil-home Locansol à Argelès-sur-MerTrajet le plus court : 26 kmTrajet le plus rapide : 31 min \nChalet Locansol à EstavarTrajet le plus court : 104 kmTrajet le plus rapide : 1 h 40 min
URL:https://www.locansol.fr/evenement/exposition-histoire-et-evolution-de-perpignan/
LOCATION:8 Rue de la Main de Fer\, Perpignan\, 8 Rue de la Main de Fer\, 66410\, France
CATEGORIES:Évènement Culturel,Exposition,Histoire,Pyrénées-Orientales
ATTACH;FMTTYPE=image/webp:https://www.locansol.fr/wp-content/uploads/2026/02/histoire-evolution-perpignan-exposition.webp
END:VEVENT
BEGIN:VEVENT
DTSTART;VALUE=DATE:20260101
DTEND;VALUE=DATE:20260701
DTSTAMP:20260423T123141
CREATED:20260216T010421Z
LAST-MODIFIED:20260216T010424Z
UID:10000110-1767225600-1782863999@www.locansol.fr
SUMMARY:PERPIGNAN\, VITRINE DE L'ART DÉCO DES ANNÉES 30
DESCRIPTION:À la Casa Xanxo\, à Perpignan\, une exposition intitulée « Perpignan\, vitrine de l’Art déco des années 30 » est proposée du 1er janvier au 30 juin 2026. Elle marque le centenaire de l’exposition des Arts Décoratifs de Paris de 1925\, qui a donné son nom à l’Art Déco dans les années 1960. Conçue par Philippe Latger\, cette manifestation met en lumière le patrimoine architectural remarquable de la ville\, issu de la période entre les deux guerres. Plus de mille bâtiments\, dont de nombreux édifices de style paquebot\, ont façonné l’identité urbaine de Perpignan. Les éléments caractéristiques — hublots\, bastingages\, pergolas ou mâts de pavillon — sont au cœur de l’exploration. Située dans un lieu historique\, ancienne demeure d’un négociant du XVIe siècle\, la Casa Xanxo abrite depuis 2017 le Centre d’interprétation de l’architecture et du patrimoine (CIAP). L’exposition est gratuite et accessible à tous. Elle s’adresse à un public intéressé par l’histoire locale\, l’architecture moderne\, ou simplement curieux de découvrir une facette méconnue de la ville. Elle propose une découverte sensible du style Art Déco à travers des documents\, des photographies\, des plans d’architecture et des objets d’époque\, offrant un regard complet sur un héritage architectural exceptionnel. \n \nRéservez votre hébergement dans les Pyrénées-Orientales :\nMobil-home Locansol à Argelès-sur-MerTrajet le plus court : 26 kmTrajet le plus rapide : 31 min \nChalet Locansol à EstavarTrajet le plus court : 104 kmTrajet le plus rapide : 1 h 40 min
URL:https://www.locansol.fr/evenement/perpignan-vitrine-de-lart-deco-des-annees-30/
LOCATION:Casa Xanxo\, Perpignan\, Casa Xanxo\, 66410\, France
CATEGORIES:Évènement Culturel,Exposition,Histoire,Pyrénées-Orientales
ATTACH;FMTTYPE=image/webp:https://www.locansol.fr/wp-content/uploads/2026/02/art-deco-perpignan-exposition.webp
END:VEVENT
BEGIN:VEVENT
DTSTART;VALUE=DATE:20260410
DTEND;VALUE=DATE:20260411
DTSTAMP:20260423T123141
CREATED:20260410T001643Z
LAST-MODIFIED:20260410T001648Z
UID:10000527-1775779200-1775865599@www.locansol.fr
SUMMARY:CONFERENCE CULTURE ET PATRIMOINE - AVRIL
DESCRIPTION:L’événement « Connaissances et croyances » se tiendra à Banyuls-sur-Mer le vendredi 10 avril à 17h30\, à la Salle Novelty. Cette conférence\, proposée par l’association Culture et Patrimoine en Côte Vermeille\, sera animée par Yves Desdevises\, directeur de l’Observatoire Océanologique de Banyuls-sur-Mer. L’entrée est libre\, offrant ainsi une opportunité accessible à tous de s’informer et de débattre sur des sujets cruciaux liés à la science et à la crédibilité de l’information. Yves Desdevises\, Professeur des Universités et directeur de l’Observatoire Océanologique de Banyuls-sur-Mer (OOB) depuis 2020\, est un expert reconnu dans le domaine des modèles hôtes-parasites marins\, notamment les parasites de poissons. Il dirige une équipe de recherche sur cette thématique et a développé de nombreux modules d’enseignement en sciences marines\, ainsi que plusieurs programmes internationaux en Licence et en Master. En plus de ses responsabilités académiques\, Yves Desdevises est Président du Conseil Scientifique de la Réserve Marine Naturelle de Cerbère-Banyuls\, Directeur du Biodiversarium de Banyuls\, et éditeur en chef de la revue scientifique « Vie et Milieu ». La conférence abordera plusieurs thèmes essentiels pour comprendre la distinction entre connaissances validées par la science et croyances infondées. Yves Desdevises proposera des clés pour évaluer la crédibilité des informations dans un contexte où la masse d’informations disponibles rend souvent difficile de discerner le vrai du faux. Les sujets abordés incluront la définition de la connaissance et de la croyance\, le processus de la découverte scientifique jusqu’à la publication\, les différents niveaux de preuve\, les biais et erreurs de raisonnement les plus courants\, ainsi que la distinction entre science et pseudoscience. L’objectif de cette conférence n’est pas de décréter qui détient la vérité\, mais de fournir des outils permettant à chacun d’évaluer le niveau de crédibilité des différentes propositions. Cette initiative s’inscrit dans une démarche éducative visant à renforcer l’esprit critique du public\, particulièrement pertinente à une époque où la désinformation peut avoir des conséquences graves\, comme l’a montré la récente crise sanitaire. Assister à cette conférence présente de nombreux avantages. Tout d’abord\, elle offre une occasion unique d’écouter un expert de renom dans un cadre accessible et gratuit. Ensuite\, elle permet de mieux comprendre les mécanismes de la science et de la diffusion de l’information\, ce qui est crucial pour développer un regard critique sur les informations qui nous entourent. Enfin\, elle favorise l’échange et le débat\, permettant aux participants de poser des questions et de partager leurs points de vue. L’ambiance de la conférence sera à la fois instructive et interactive\, propice à la réflexion et à l’échange d’idées. La Salle Novelty\, située au 14 Rue du 14 Juillet à Banyuls-sur-Mer\, offre un cadre convivial pour cet événement. La conférence s’adresse à un large public\, incluant les amateurs de science\, les étudiants\, les professionnels de la communication et toute personne intéressée par les enjeux de l’information à l’ère numérique. En conclusion\, la conférence « Connaissances et croyances » est une opportunité à ne pas manquer pour tous ceux qui souhaitent mieux comprendre les enjeux de la science et de l’information. La présence d’Yves Desdevises\, expert reconnu\, et la gratuité de l’événement en font un rendez-vous incontournable pour s’informer et débattre sur des sujets cruciaux de notre époque. Informations pratiques : – Date : Vendredi 10 avril – Heure : 17h30 – Lieu : Salle Novelty\, 14 Rue du 14 Juillet\, Banyuls-sur-Mer – Entrée : Gratuite – Public : Tout public intéressé par les questions de science\, d’information et de crédibilité. \n \nRéservez votre hébergement dans les Pyrénées-Orientales :\nMobil-home Locansol à Argelès-sur-MerTrajet le plus court : 17 kmTrajet le plus rapide : 22 min \nChalet Locansol à EstavarTrajet le plus court : 133 kmTrajet le plus rapide : 2 h 3 min
URL:https://www.locansol.fr/evenement/conference-culture-et-patrimoine-avril/
LOCATION:14 Rue du 14 Juillet\, Banyuls-sur-Mer\, 14 Rue du 14 Juillet\, Banyuls-sur-Mer\, 66650\, France
CATEGORIES:Débat / Conférence,Évènement Culturel,Histoire,Pyrénées-Orientales
ATTACH;FMTTYPE=image/webp:https://www.locansol.fr/wp-content/uploads/2026/04/conference-science-croyances-banyuls.webp
END:VEVENT
BEGIN:VEVENT
DTSTART;VALUE=DATE:20260410
DTEND;VALUE=DATE:20260411
DTSTAMP:20260423T123141
CREATED:20260410T001946Z
LAST-MODIFIED:20260410T001949Z
UID:10000528-1775779200-1775865599@www.locansol.fr
SUMMARY:LA NOTORIÉTÉ DES VINS CATALANS AU TEMPS DES ROYAUMES DE MAJORQUE ET D’ARAGON
DESCRIPTION:L’événement « La notoriété des vins catalans au temps des royaumes de Majorque et d’Aragon » est une conférence passionnante qui se tiendra à la médiathèque du Boulou le vendredi 10 avril à 18h00. Organisée dans le cadre de la Sant Jordi\, cette soirée promet d’être à la fois instructive et savoureuse. La conférence sera animée par Pierre Torrès\, ingénieur agronome et œnologue spécialiste des vignobles méditerranéens. Ancien directeur de la station viti-vinicole du Roussillon et fondateur de l’Université des vins\, Pierre Torrès est également l’auteur de plusieurs ouvrages sur le vin. Sa passion pour l’histoire et les savoir-faire du vignoble catalan en font un conférencier de choix pour cette soirée. Après la conférence\, les participants pourront profiter d’une dégustation de vins en partenariat avec la Cave Vignerons du Vallespir – Laure de Nyls. Cet événement est une occasion unique de comprendre l’importance du terroir catalan dans l’histoire viticole. La conférence abordera l’histoire des vins catalans durant les périodes des royaumes de Majorque et d’Aragon. Pierre Torrès expliquera comment ces vins ont acquis leur notoriété et quels étaient les savoir-faire viticoles de l’époque. Il évoquera également l’évolution des techniques de production et les particularités des cépages utilisés. La dégustation permettra aux participants de découvrir les arômes et les saveurs des vins actuels\, tout en les reliant à leur héritage historique. Cette soirée est idéale pour les passionnés de vin et les curieux d’histoire. La médiathèque du Boulou\, avec son ambiance conviviale\, est le cadre parfait pour cette immersion sensorielle et intellectuelle. L’entrée est gratuite\, rendant cet événement accessible à tous. La conférence « La notoriété des vins catalans au temps des royaumes de Majorque et d’Aragon » est une invitation à découvrir le riche passé viticole de la Catalogne et à réfléchir à son avenir. Que vous soyez amateur de vin\, historien en herbe ou simplement curieux\, cette soirée vous promet des moments instructifs et agréables. Ne manquez pas cette opportunité de plonger dans l’univers fascinant des vins catalans et de déguster des crus d’exception dans une ambiance conviviale et enrichissante. \n \nRéservez votre hébergement dans les Pyrénées-Orientales :\nMobil-home Locansol à Argelès-sur-MerTrajet le plus court : 20 kmTrajet le plus rapide : 23 min \nChalet Locansol à EstavarTrajet le plus court : 115 kmTrajet le plus rapide : 1 h 45 min
URL:https://www.locansol.fr/evenement/la-notoriete-des-vins-catalans-au-temps-des-royaumes-de-majorque-et-daragon/
LOCATION:Avenue Léon-Jean Grégory\, Le Boulou\, Avenue Léon-Jean Grégory\, Le Boulou\, 66160\, France
CATEGORIES:Débat / Conférence,Évènement Culturel,Histoire,Pyrénées-Orientales,Terroir
ATTACH;FMTTYPE=image/webp:https://www.locansol.fr/wp-content/uploads/2026/04/conference-degustation-vins-catalans.webp
END:VEVENT
BEGIN:VEVENT
DTSTART;VALUE=DATE:20260410
DTEND;VALUE=DATE:20260411
DTSTAMP:20260423T123141
CREATED:20260410T060716Z
LAST-MODIFIED:20260410T060725Z
UID:10000533-1775779200-1775865599@www.locansol.fr
SUMMARY:HYACINTHE RIGAUD ET LE ROI-SOLEIL
DESCRIPTION:La conférence « Hyacinthe Rigaud et Louis XIV » se tiendra à la Médiathèque Centrale de Perpignan le vendredi 10 avril à 18:00. Cet événement sera animé par Nicolas Milovanovic\, conservateur en chef du département des Peintures du musée du Louvre. Cette conférence sera l’occasion de découvrir les secrets du célèbre portrait de Louis XIV peint par Hyacinthe Rigaud en 1701.  Hyacinthe Rigaud\, peintre emblématique du Roi-Soleil\, a réalisé ce portrait majestueux qui est aujourd’hui exposé au musée du Louvre. Le portrait a été commandé par le roi et exécuté sous ses yeux à Versailles\, avant d’être présenté dans la salle du trône\, le salon d’Apollon. Nicolas Milovanovic explorera les raisons pour lesquelles cette commande prestigieuse a été confiée à Rigaud\, le contexte de la création du portrait\, ses significations cachées et sa réception critique au fil des siècles.  Cette conférence promet d’être enrichissante pour tous les amateurs d’histoire et d’art. Elle offrira un éclairage unique sur l’une des œuvres les plus emblématiques de l’art français\, permettant de mieux comprendre l’importance de ce portrait dans l’histoire de la monarchie française et de la peinture. L’entrée est gratuite\, ce qui rend cet événement accessible à tous.  La Médiathèque Centrale de Perpignan\, lieu de culture et de savoir\, accueillera cet événement dans un cadre propice à la réflexion et à la découverte. La conférence sera suivie d’un débat\, permettant au public de poser des questions et d’approfondir les sujets abordés. C’est une occasion rare de bénéficier de l’expertise d’un spécialiste du Louvre et de plonger dans l’univers fascinant de la cour de Louis XIV.  Ne manquez pas cette opportunité de découvrir les coulisses de la création d’un chef-d’œuvre et de mieux comprendre l’art et l’histoire de cette période fascinante.  Cette conférence s’adresse à un large public\, des passionnés d’histoire aux amateurs d’art\, en passant par les curieux désireux d’en savoir plus sur cette période marquante de l’histoire de France. L’entrée gratuite permet à tous de profiter de cette occasion unique d’enrichir ses connaissances et de participer à un échange culturel de qualité. \n \nRéservez votre hébergement dans les Pyrénées-Orientales :\nMobil-home Locansol à Argelès-sur-MerTrajet le plus court : 26 kmTrajet le plus rapide : 31 min \nChalet Locansol à EstavarTrajet le plus court : 104 kmTrajet le plus rapide : 1 h 40 min
URL:https://www.locansol.fr/evenement/hyacinthe-rigaud-et-le-roi-soleil/
LOCATION:Auditorium de la Médiathèque Centrale\, Perpignan\, Auditorium de la Médiathèque Centrale\, 66410\, France
CATEGORIES:Débat / Conférence,Évènement Culturel,Histoire,Pyrénées-Orientales
ATTACH;FMTTYPE=image/webp:https://www.locansol.fr/wp-content/uploads/2026/04/conference-hyacinthe-rigaud-perpignan.webp
END:VEVENT
BEGIN:VEVENT
DTSTART;VALUE=DATE:20260410
DTEND;VALUE=DATE:20260411
DTSTAMP:20260423T123141
CREATED:20260410T101059Z
LAST-MODIFIED:20260410T101108Z
UID:10000534-1775779200-1775865599@www.locansol.fr
SUMMARY:VISITE GUIDÉE DU VILLAGE DE VERNET-LES-BAINS
DESCRIPTION:L’événement « Visite guidée du village de Vernet-les-Bains » se déroulera le vendredi 10 avril de 14:30 à 16:30 à Vernet-les-Bains. Cette visite permettra de découvrir le riche patrimoine du village\, de la station thermale courtisée au XIX° siècle au premier village arboretum de France. La visite inclura également l’église Saint-Saturnin\, offrant ainsi un aperçu complet des traditions et de l’histoire d’un authentique village catalan. Le rendez-vous est fixé devant l’Office de tourisme\, et la réservation est obligatoire. Des options de petites randonnées ou de visites individualisées ou en groupe sont disponibles sur demande. Le tarif plein est de 8\,00 €. \nLe village de Vernet-les-Bains est situé dans les Pyrénées-Orientales\, une région riche en histoire et en culture. La visite guidée permettra de découvrir plusieurs aspects clés du village. Tout d’abord\, la station thermale\, qui a attiré de nombreux visiteurs au XIX° siècle en raison de ses eaux bienfaisantes. Ensuite\, le village arboretum\, qui est le premier de France\, offrant une diversité botanique unique. Enfin\, l’église Saint-Saturnin\, un monument emblématique du village\, qui témoigne de son patrimoine religieux et architectural. \nCette visite est une excellente occasion de découvrir les traditions et le patrimoine d’un village catalan authentique. Que vous soyez passionné d’histoire\, de nature ou de culture\, cette visite guidée saura répondre à vos attentes. La réservation obligatoire garantit une expérience personnalisée et adaptée à vos besoins. \nLes raisons de s’y rendre sont nombreuses. Tout d’abord\, la visite offre une plongée dans l’histoire et la culture catalane\, avec des explications détaillées sur les différents sites visités. Ensuite\, le cadre naturel exceptionnel du village arboretum et la beauté architecturale de l’église Saint-Saturnin en font une expérience sensorielle unique. Enfin\, la possibilité de personnaliser la visite avec des randonnées ou des visites en groupe permet de profiter pleinement de cette escapade culturelle et naturelle. \nEn résumé\, la visite guidée du village de Vernet-les-Bains est une opportunité à ne pas manquer pour découvrir un patrimoine riche et varié dans un cadre naturel exceptionnel. Que vous soyez en famille\, entre amis ou en solo\, cette visite saura vous offrir une expérience enrichissante et mémorable. \nPour réserver ou obtenir plus d’informations\, rendez-vous à l’Office de tourisme de Vernet-les-Bains\, situé au 2 rue de la Chapelle. \nÉvadez-vous le temps d’une après-midi et laissez-vous charmer par les trésors cachés de Vernet-les-Bains. \n \nRéservez votre hébergement dans les Pyrénées-Orientales :\nChalet Locansol à EstavarTrajet le plus court : 51 kmTrajet le plus rapide : 54 min \nMobil-home Locansol à Argelès-sur-MerTrajet le plus court : 78 kmTrajet le plus rapide : 1 h 10 min
URL:https://www.locansol.fr/evenement/visite-guidee-du-village-de-vernet-les-bains-5/
LOCATION:2 rue de la chapelle\, Vernet-les-Bains\, 2 rue de la chapelle\, Vernet-les-Bains\, 66820\, France
CATEGORIES:Évènement Culturel,Histoire,Pyrénées-Orientales,Visite guidée
ATTACH;FMTTYPE=image/webp:https://www.locansol.fr/wp-content/uploads/2026/04/visite-guidee-village-vernet-les-bains.webp
END:VEVENT
END:VCALENDAR