BEGIN:VCALENDAR
VERSION:2.0
PRODID:-//Locansol, louer un hébergement dans les Pyrénées Orientales - ECPv6.15.13.1//NONSGML v1.0//EN
CALSCALE:GREGORIAN
METHOD:PUBLISH
X-ORIGINAL-URL:https://www.locansol.fr
X-WR-CALDESC:Évènements pour Locansol, louer un hébergement dans les Pyrénées Orientales
REFRESH-INTERVAL;VALUE=DURATION:PT1H
X-Robots-Tag:noindex
X-PUBLISHED-TTL:PT1H
BEGIN:VTIMEZONE
TZID:Europe/Paris
BEGIN:DAYLIGHT
TZOFFSETFROM:+0100
TZOFFSETTO:+0200
TZNAME:CEST
DTSTART:20250330T010000
END:DAYLIGHT
BEGIN:STANDARD
TZOFFSETFROM:+0200
TZOFFSETTO:+0100
TZNAME:CET
DTSTART:20251026T010000
END:STANDARD
BEGIN:DAYLIGHT
TZOFFSETFROM:+0100
TZOFFSETTO:+0200
TZNAME:CEST
DTSTART:20260329T010000
END:DAYLIGHT
BEGIN:STANDARD
TZOFFSETFROM:+0200
TZOFFSETTO:+0100
TZNAME:CET
DTSTART:20261025T010000
END:STANDARD
BEGIN:DAYLIGHT
TZOFFSETFROM:+0100
TZOFFSETTO:+0200
TZNAME:CEST
DTSTART:20270328T010000
END:DAYLIGHT
BEGIN:STANDARD
TZOFFSETFROM:+0200
TZOFFSETTO:+0100
TZNAME:CET
DTSTART:20271031T010000
END:STANDARD
END:VTIMEZONE
BEGIN:VEVENT
DTSTART;VALUE=DATE:20260406
DTEND;VALUE=DATE:20260407
DTSTAMP:20260421T132511
CREATED:20260406T223353Z
LAST-MODIFIED:20260406T223357Z
UID:10000504-1775433600-1775519999@www.locansol.fr
SUMMARY:CONCERT GIOLA TRIO ASTROLABI
DESCRIPTION:Le concert GIOLA TRIO ASTROLABI aura lieu à Passa\, au 1905 Hameau du Monastir\, le lundi 6 avril de 17:00 à 19:00. Cet événement met en vedette le jeune baryton Timothé Bougon\, formé au Conservatoire et au Pôle de chants baroques de Toulouse. Il sera accompagné de Guillem Gironès au clavecin et au violoncelle\, et de Jordi Gironès au théorbe et à la guitare baroque. Le trio présentera un programme varié allant de la musique italienne instrumentale et vocale du XVIIème siècle aux cantates françaises de Bodin de Boismortier. Le concert promet une expérience musicale riche et variée\, idéale pour les amateurs de musique baroque. Timothé Bougon a notamment été formé au Pôle des Arts Baroques de Toulouse dans la classe de chant de Jérôme Corréas. Jordi Gironès est professeur de théorbe et guitare baroque au conservatoire Montserrat Caballé\, son fils Guillem Gironès est violoncelliste baroque et claveciniste. Réservez dès maintenant par SMS au 07 49 77 00 56 ou sur le site https://www.alainmarinaro.fr/contact/. Tarif : 12\,00 €. \n \nRéservez votre hébergement dans les Pyrénées-Orientales :\nMobil-home Locansol à Argelès-sur-MerTrajet le plus court : 22 kmTrajet le plus rapide : 30 min \nChalet Locansol à EstavarTrajet le plus court : 95 kmTrajet le plus rapide : 1 h 40 min
URL:https://www.locansol.fr/evenement/concert-giola-trio-astrolabi/
LOCATION:1905 hammeau du monastir\, Passa\, 1905 hammeau du monastir\, Passa\, 66300\, France
CATEGORIES:Concert,Évènement Culturel,Musique,Pyrénées-Orientales
ATTACH;FMTTYPE=image/webp:https://www.locansol.fr/wp-content/uploads/2026/04/concert-musique-baroque-passa.webp
END:VEVENT
END:VCALENDAR