BEGIN:VCALENDAR
VERSION:2.0
PRODID:-//Locansol, louer un hébergement dans les Pyrénées Orientales - ECPv6.15.13.1//NONSGML v1.0//EN
CALSCALE:GREGORIAN
METHOD:PUBLISH
X-WR-CALNAME:Locansol, louer un hébergement dans les Pyrénées Orientales
X-ORIGINAL-URL:https://www.locansol.fr
X-WR-CALDESC:Évènements pour Locansol, louer un hébergement dans les Pyrénées Orientales
REFRESH-INTERVAL;VALUE=DURATION:PT1H
X-Robots-Tag:noindex
X-PUBLISHED-TTL:PT1H
BEGIN:VTIMEZONE
TZID:Europe/Paris
BEGIN:DAYLIGHT
TZOFFSETFROM:+0100
TZOFFSETTO:+0200
TZNAME:CEST
DTSTART:20250330T010000
END:DAYLIGHT
BEGIN:STANDARD
TZOFFSETFROM:+0200
TZOFFSETTO:+0100
TZNAME:CET
DTSTART:20251026T010000
END:STANDARD
BEGIN:DAYLIGHT
TZOFFSETFROM:+0100
TZOFFSETTO:+0200
TZNAME:CEST
DTSTART:20260329T010000
END:DAYLIGHT
BEGIN:STANDARD
TZOFFSETFROM:+0200
TZOFFSETTO:+0100
TZNAME:CET
DTSTART:20261025T010000
END:STANDARD
BEGIN:DAYLIGHT
TZOFFSETFROM:+0100
TZOFFSETTO:+0200
TZNAME:CEST
DTSTART:20270328T010000
END:DAYLIGHT
BEGIN:STANDARD
TZOFFSETFROM:+0200
TZOFFSETTO:+0100
TZNAME:CET
DTSTART:20271031T010000
END:STANDARD
END:VTIMEZONE
BEGIN:VEVENT
DTSTART;VALUE=DATE:20260323
DTEND;VALUE=DATE:20260324
DTSTAMP:20260421T143106
CREATED:20260323T071330Z
LAST-MODIFIED:20260323T071334Z
UID:10000420-1774224000-1774310399@www.locansol.fr
SUMMARY:MARCHE NORDIQUE
DESCRIPTION:Lundi 23 mars 2026\, à 14h00\, Amélie-les-Bains-Palalda vous invite à une séance de marche nordique. Préparez vos chaussures de randonnée et une bouteille d’eau pour cet événement sportif. Les inscriptions se font à la mairie (service des sports) ou au 04 68 39 49 56. Le tarif est de 8 €.  La marche nordique est une pratique sportive encadrée qui allie bien-être et sport. Amélie-les-Bains-Palalda\, située dans les Pyrénées-Orientales\, offre un cadre idéal pour cette activité. La commune est nichée dans la vallée du Tech\, au cœur du Vallespir\, et regroupe deux agglomérations distinctes : les villages des Bains et de Palalda. Ce lieu est riche en patrimoine naturel\, avec des montagnes comme Montalba\, et propose diverses activités de plein air telles que la randonnée\, le cyclisme\, le trail\, l’équitation\, et bien sûr\, la marche nordique. La station est spécialement dédiée à la marche nordique\, offrant des parcours balisés et des services adaptés à tous les niveaux\, des débutants aux plus expérimentés. Parmi les parcours proposés\, celui de la Batterie Santa Engracia se distingue avec ses 473 mètres de dénivelé positif.  La marche nordique à Amélie-les-Bains-Palalda est bien plus qu’une simple activité physique. C’est une immersion dans un environnement naturel préservé\, où chaque détour de sentier révèle des trésors architecturaux et des paysages à couper le souffle. Les parcours sont conçus pour offrir une expérience complète\, alliant effort physique et découverte culturelle. Les bâtons de marche sont fournis\, et la séance dure environ 2 heures\, permettant à chacun de profiter pleinement des bienfaits de cette pratique.  Participer à cette marche nordique\, c’est s’offrir un moment de détente et de bien-être dans un cadre exceptionnel. L’activité est accessible à tous\, et l’encadrement professionnel garantit une expérience sécurisée et enrichissante. Que vous soyez un habitué de la marche nordique ou un novice curieux de découvrir cette pratique\, cet événement est une occasion idéale pour vous ressourcer et profiter des beautés naturelles d’Amélie-les-Bains-Palalda.  Ne manquez pas cette opportunité de combiner sport et découverte dans un cadre naturel unique. Inscrivez-vous dès maintenant et préparez-vous à vivre une expérience inoubliable. \n \nRéservez votre hébergement dans les Pyrénées-Orientales :\nMobil-home Locansol à Argelès-sur-MerTrajet le plus court : 61 kmTrajet le plus rapide : 1 h 0 min \nChalet Locansol à EstavarTrajet le plus court : 65 kmTrajet le plus rapide : 1 h 14 min
URL:https://www.locansol.fr/evenement/marche-nordique/
LOCATION:22 Avenue du Vallespir\, Amélie-les-Bains-Palalda\, 22 Avenue du Vallespir\, Amélie-les-Bains-Palalda\, 66110\, France
CATEGORIES:Bien-être,Pratique sportive encadrée,Pyrénées-Orientales,Sports
ATTACH;FMTTYPE=image/webp:https://www.locansol.fr/wp-content/uploads/2026/03/marche-nordique-amelie-bains.webp
END:VEVENT
BEGIN:VEVENT
DTSTART;VALUE=DATE:20260330
DTEND;VALUE=DATE:20260331
DTSTAMP:20260421T143106
CREATED:20260330T120939Z
LAST-MODIFIED:20260330T120946Z
UID:10000455-1774828800-1774915199@www.locansol.fr
SUMMARY:RANDONNÉE PÉDESTRE
DESCRIPTION:Une randonnée pédestre est programmée le lundi 30 mars à 14 heures à Amélie-les-Bains-Palalda. Cette sortie\, encadrée\, propose un parcours avec un dénivelé de 300 mètres. Les participants doivent prévoir des chaussures de randonnée adaptées et une bouteille d’eau. Les inscriptions se font à la mairie (service des sports) ou par téléphone au 04 68 39 49 56. Le tarif est de 8 euros.La commune d’Amélie-les-Bains-Palalda\, située dans les Pyrénées-Orientales\, est connue pour ses paysages variés et ses sentiers bien entretenus\, offrant un cadre idéal pour les amateurs de plein air et de sport. La région du Sud-Canigou\, où se trouve Amélie-les-Bains-Palalda\, est propice aux activités de randonnée grâce à ses vallées verdoyantes et ses montagnes impressionnantes.Le programme de la randonnée inclut un dénivelé de 300 mètres\, ce qui représente un défi modéré pour les participants. Le parcours est conçu pour offrir une expérience complète\, alliant effort physique et découverte de la nature. Les randonneurs pourront admirer des panoramas magnifiques sur le massif du Canigou et les environs. La randonnée est encadrée par des professionnels\, garantissant ainsi la sécurité et le bon déroulement de l’activité.Participer à cette randonnée présente de nombreux avantages. C’est une occasion unique de se ressourcer en pleine nature\, de profiter de l’air pur et de découvrir des paysages à couper le souffle. La randonnée est également bénéfique pour la santé\, permettant de se dépenser physiquement tout en se détendant mentalement. De plus\, l’encadrement professionnel assure une expérience sécurisée et enrichissante pour tous les participants\, qu’ils soient débutants ou randonneurs expérimentés.En résumé\, la randonnée pédestre à Amélie-les-Bains-Palalda est une activité à ne pas manquer pour tous ceux qui souhaitent allier sport\, nature et bien-être. Les inscriptions sont ouvertes à la mairie ou par téléphone\, et le tarif attractif de 8 euros rend cette sortie accessible à tous. \n \nRéservez votre hébergement dans les Pyrénées-Orientales :\nMobil-home Locansol à Argelès-sur-MerTrajet le plus court : 61 kmTrajet le plus rapide : 1 h 0 min \nChalet Locansol à EstavarTrajet le plus court : 65 kmTrajet le plus rapide : 1 h 14 min
URL:https://www.locansol.fr/evenement/randonnee-pedestre/
LOCATION:22 Avenue du Vallespir\, Amélie-les-Bains-Palalda\, 22 Avenue du Vallespir\, Amélie-les-Bains-Palalda\, 66110\, France
CATEGORIES:Bien-être,Pratique sportive encadrée,Pyrénées-Orientales,Sports
ATTACH;FMTTYPE=image/webp:https://www.locansol.fr/wp-content/uploads/2026/03/randonnee-encadree-amelie-les-bains-palalda.webp
END:VEVENT
END:VCALENDAR