BEGIN:VCALENDAR
VERSION:2.0
PRODID:-//Locansol, louer un hébergement dans les Pyrénées Orientales - ECPv6.15.13.1//NONSGML v1.0//EN
CALSCALE:GREGORIAN
METHOD:PUBLISH
X-ORIGINAL-URL:https://www.locansol.fr
X-WR-CALDESC:Évènements pour Locansol, louer un hébergement dans les Pyrénées Orientales
REFRESH-INTERVAL;VALUE=DURATION:PT1H
X-Robots-Tag:noindex
X-PUBLISHED-TTL:PT1H
BEGIN:VTIMEZONE
TZID:Europe/Paris
BEGIN:DAYLIGHT
TZOFFSETFROM:+0100
TZOFFSETTO:+0200
TZNAME:CEST
DTSTART:20250330T010000
END:DAYLIGHT
BEGIN:STANDARD
TZOFFSETFROM:+0200
TZOFFSETTO:+0100
TZNAME:CET
DTSTART:20251026T010000
END:STANDARD
BEGIN:DAYLIGHT
TZOFFSETFROM:+0100
TZOFFSETTO:+0200
TZNAME:CEST
DTSTART:20260329T010000
END:DAYLIGHT
BEGIN:STANDARD
TZOFFSETFROM:+0200
TZOFFSETTO:+0100
TZNAME:CET
DTSTART:20261025T010000
END:STANDARD
BEGIN:DAYLIGHT
TZOFFSETFROM:+0100
TZOFFSETTO:+0200
TZNAME:CEST
DTSTART:20270328T010000
END:DAYLIGHT
BEGIN:STANDARD
TZOFFSETFROM:+0200
TZOFFSETTO:+0100
TZNAME:CET
DTSTART:20271031T010000
END:STANDARD
END:VTIMEZONE
BEGIN:VEVENT
DTSTART;VALUE=DATE:20260215
DTEND;VALUE=DATE:20260701
DTSTAMP:20260421T152915
CREATED:20260216T010219Z
LAST-MODIFIED:20260216T010222Z
UID:10000109-1771113600-1782863999@www.locansol.fr
SUMMARY:DES OBJETS ARCHEOLOGIQUES SORTENT DES RESERVES ARCHEOLOGIQUES A TAUTAVEL
DESCRIPTION:Le Musée de Préhistoire de Tautavel propose en 2026 une série d’événements inédits intitulés « L’Objet du Mois ». Du 15 février au 30 juin\, chaque dimanche\, le public est invité à une rencontre privilégiée avec le conservateur des collections\, autour d’une pièce archéologique exceptionnelle extraite spécialement des réserves du musée. Ces rencontres\, organisées à 15h30\, offrent un accès direct à des objets issus de la célèbre Caune de l’Arago\, site archéologique majeur où furent découverts\, en 1971\, les restes de l’Homme de Tautavel\, un Homo erectus daté de plus de 450 000 ans. Le musée\, situé au cœur des Pyrénées-Orientales\, abrite une des collections les plus riches d’Europe en matière de préhistoire\, avec des fossiles\, des outils lithiques et des reconstitutions du quotidien des premiers Européens. L’expérience\, incluse dans le prix d’entrée\, permet de découvrir la matérialité des objets\, leur fragilité et leur contexte historique\, au-delà des vitrines d’exposition. Elle s’inscrit dans une démarche de transparence scientifique\, offrant un aperçu du travail quotidien des chercheurs et conservateurs. Ce rendez-vous mensuel est une opportunité rare de s’immerger dans l’histoire ancienne de l’humanité\, au cœur d’un lieu où la découverte continue de révéler des pans oubliés du passé. Le musée est ouvert tous les jours\, à l’adresse Avenue Léon Jean Grégory\, Tautavel. Le tarif plein est de 8\,00 €. \n \nRéservez votre hébergement dans les Pyrénées-Orientales :\nMobil-home Locansol à Argelès-sur-MerTrajet le plus court : 52 kmTrajet le plus rapide : 54 min \nChalet Locansol à EstavarTrajet le plus court : 102 kmTrajet le plus rapide : 1 h 46 min
URL:https://www.locansol.fr/evenement/des-objets-archeologiques-sortent-des-reserves-archeologiques-a-tautavel/
LOCATION:Avenue Léon Jean Grégory\, Tautavel\, Avenue Léon Jean Grégory\, Tautavel\, 66720\, France
CATEGORIES:Concert,Évènement Culturel,Loisirs,Pyrénées-Orientales,Sciences
ATTACH;FMTTYPE=image/webp:https://www.locansol.fr/wp-content/uploads/2026/02/objet-mois-tautavel-prehistoire.webp
END:VEVENT
BEGIN:VEVENT
DTSTART;VALUE=DATE:20260414
DTEND;VALUE=DATE:20260622
DTSTAMP:20260421T152915
CREATED:20260419T002413Z
LAST-MODIFIED:20260419T002415Z
UID:10000600-1776124800-1782086399@www.locansol.fr
SUMMARY:EXPOSITION DE PEINTURES ET AQUARELLES
DESCRIPTION:L’exposition « Emergences » à Sorède\, du 14 avril au 21 juin\, présente des œuvres uniques de peintures et aquarelles réalisées par des artistes locaux. Située à la mairie\, l’exposition est accessible aux horaires d’ouverture habituels\, du lundi au vendredi. Cette manifestation culturelle offre une occasion rare de découvrir la créativité et le talent des artistes de Sorède. L’entrée est gratuite\, permettant à tous de profiter de cette expérience artistique. Les visiteurs pourront admirer une variété de styles et de techniques\, reflétant la diversité et la richesse de la scène artistique locale. L’exposition « Emergences » est un rendez-vous incontournable pour les amateurs d’art et les curieux\, offrant un moment de détente et d’inspiration dans un cadre accueillant \n \nRéservez votre hébergement dans les Pyrénées-Orientales :\nMobil-home Locansol à Argelès-sur-MerTrajet le plus court : 8 kmTrajet le plus rapide : 12 min \nChalet Locansol à EstavarTrajet le plus court : 123 kmTrajet le plus rapide : 1 h 56 min
URL:https://www.locansol.fr/evenement/exposition-de-peintures-et-aquarelles/
LOCATION:Rue de la Caserne\, Sorède\, Rue de la Caserne\, Sorède\, 66690\, France
CATEGORIES:Évènement Culturel,Exposition,Loisirs,Peinture,Pyrénées-Orientales
ATTACH;FMTTYPE=image/webp:https://www.locansol.fr/wp-content/uploads/2026/04/exposition-emergences-sorede-art.webp
END:VEVENT
END:VCALENDAR