BEGIN:VCALENDAR
VERSION:2.0
PRODID:-//Locansol, louer un hébergement dans les Pyrénées Orientales - ECPv6.15.13.1//NONSGML v1.0//EN
CALSCALE:GREGORIAN
METHOD:PUBLISH
X-WR-CALNAME:Locansol, louer un hébergement dans les Pyrénées Orientales
X-ORIGINAL-URL:https://www.locansol.fr
X-WR-CALDESC:Évènements pour Locansol, louer un hébergement dans les Pyrénées Orientales
REFRESH-INTERVAL;VALUE=DURATION:PT1H
X-Robots-Tag:noindex
X-PUBLISHED-TTL:PT1H
BEGIN:VTIMEZONE
TZID:Europe/Paris
BEGIN:DAYLIGHT
TZOFFSETFROM:+0100
TZOFFSETTO:+0200
TZNAME:CEST
DTSTART:20250330T010000
END:DAYLIGHT
BEGIN:STANDARD
TZOFFSETFROM:+0200
TZOFFSETTO:+0100
TZNAME:CET
DTSTART:20251026T010000
END:STANDARD
BEGIN:DAYLIGHT
TZOFFSETFROM:+0100
TZOFFSETTO:+0200
TZNAME:CEST
DTSTART:20260329T010000
END:DAYLIGHT
BEGIN:STANDARD
TZOFFSETFROM:+0200
TZOFFSETTO:+0100
TZNAME:CET
DTSTART:20261025T010000
END:STANDARD
BEGIN:DAYLIGHT
TZOFFSETFROM:+0100
TZOFFSETTO:+0200
TZNAME:CEST
DTSTART:20270328T010000
END:DAYLIGHT
BEGIN:STANDARD
TZOFFSETFROM:+0200
TZOFFSETTO:+0100
TZNAME:CET
DTSTART:20271031T010000
END:STANDARD
END:VTIMEZONE
BEGIN:VEVENT
DTSTART;VALUE=DATE:20260220
DTEND;VALUE=DATE:20260221
DTSTAMP:20260421T125558
CREATED:20260220T111137Z
LAST-MODIFIED:20260220T111139Z
UID:10000171-1771545600-1771631999@www.locansol.fr
SUMMARY:MUSIQUE LIVE & DANSE : SO WHAT
DESCRIPTION:Le vendredi 20 février à 20h00\, la Casa Musicale de Perpignan vous invite à une soirée exceptionnelle intitulée « MUSIQUE LIVE & DANSE : SO WHAT ». Situé au 1\, rue Jean Vielledent\, cet événement promet une immersion totale dans l’univers du swing et du jazz\, dans une ambiance digne des cabarets de La Nouvelle-Orléans.  Cette soirée débutera à 20h30 par une initiation au swing\, animée par l’association Swing Perpignan. Que vous soyez débutant ou danseur confirmé\, cette session vous permettra de vous familiariser avec les pas de base du lindy hop\, une danse emblématique des années 30 et 40.  L’initiation sera suivie d’un concert live du Big Band Swing de la Casa Musicale\, dirigé par Gavin Hackett\, saxophoniste ténor et leader du groupe Skamanians. Depuis 2008\, ce big band a su conquérir le public avec son répertoire éclectique\, mêlant classiques du swing et touches de rock\, funk et soul. Vous pourrez ainsi redécouvrir les standards intemporels de Count Basie\, Glenn Miller\, Louis Jordan\, et Cab Calloway\, ainsi que des morceaux plus modernes de Harry Connick Jr. et Michael Bublé.  La Casa Musicale\, lieu emblématique de la scène musicale perpignanaise\, se distingue par son engagement à promouvoir les pratiques musicales actuelles et à valoriser les talents locaux. Fondée en 2000\, cette institution est devenue un véritable pilier culturel de la région\, offrant une formation musicale de qualité et organisant régulièrement des événements qui célèbrent la diversité musicale.  Cette soirée est une occasion unique de découvrir ou redécouvrir le swing dans une ambiance festive et conviviale. Que vous soyez amateur de danse\, mélomane ou simplement curieux\, cet événement saura vous séduire par son énergie communicative et son ambiance chaleureuse. L’entrée est gratuite\, et sur place\, un bar et un food truck seront à votre disposition pour agrémenter votre soirée.  Ne manquez pas cette opportunité de passer un moment inoubliable en musique et en danse\, dans un cadre exceptionnel. Pour plus d’informations\, vous pouvez contacter la Casa Musicale au +33 4 68 62 17 22 ou par email à news@casamusicale.net.  Références : Infolocale\, Tourisme Pyrénées-Orientales\, L’Indépendant\, Casa Musicale\, eTerritoire. \n \nRéservez votre hébergement dans les Pyrénées-Orientales :\nMobil-home Locansol à Argelès-sur-MerTrajet le plus court : 26 kmTrajet le plus rapide : 31 min \nChalet Locansol à EstavarTrajet le plus court : 104 kmTrajet le plus rapide : 1 h 40 min
URL:https://www.locansol.fr/evenement/musique-live-danse-so-what/
LOCATION:1\, rue Jean Vielledent\, Perpignan\, 1\, rue Jean Vielledent\, 66410\, France
CATEGORIES:Concert,Danse,Loisirs,Pyrénées-Orientales,Spectacle
ATTACH;FMTTYPE=image/webp:https://www.locansol.fr/wp-content/uploads/2026/02/soiree-swing-jazz-perpignan.webp
END:VEVENT
END:VCALENDAR