BEGIN:VCALENDAR
VERSION:2.0
PRODID:-//Locansol, louer un hébergement dans les Pyrénées Orientales - ECPv6.15.13.1//NONSGML v1.0//EN
CALSCALE:GREGORIAN
METHOD:PUBLISH
X-ORIGINAL-URL:https://www.locansol.fr
X-WR-CALDESC:Évènements pour Locansol, louer un hébergement dans les Pyrénées Orientales
REFRESH-INTERVAL;VALUE=DURATION:PT1H
X-Robots-Tag:noindex
X-PUBLISHED-TTL:PT1H
BEGIN:VTIMEZONE
TZID:Europe/Paris
BEGIN:DAYLIGHT
TZOFFSETFROM:+0100
TZOFFSETTO:+0200
TZNAME:CEST
DTSTART:20250330T010000
END:DAYLIGHT
BEGIN:STANDARD
TZOFFSETFROM:+0200
TZOFFSETTO:+0100
TZNAME:CET
DTSTART:20251026T010000
END:STANDARD
BEGIN:DAYLIGHT
TZOFFSETFROM:+0100
TZOFFSETTO:+0200
TZNAME:CEST
DTSTART:20260329T010000
END:DAYLIGHT
BEGIN:STANDARD
TZOFFSETFROM:+0200
TZOFFSETTO:+0100
TZNAME:CET
DTSTART:20261025T010000
END:STANDARD
BEGIN:DAYLIGHT
TZOFFSETFROM:+0100
TZOFFSETTO:+0200
TZNAME:CEST
DTSTART:20270328T010000
END:DAYLIGHT
BEGIN:STANDARD
TZOFFSETFROM:+0200
TZOFFSETTO:+0100
TZNAME:CET
DTSTART:20271031T010000
END:STANDARD
END:VTIMEZONE
BEGIN:VEVENT
DTSTART;VALUE=DATE:20260412
DTEND;VALUE=DATE:20260413
DTSTAMP:20260422T111659
CREATED:20260413T001142Z
LAST-MODIFIED:20260413T001154Z
UID:10000567-1775952000-1776038399@www.locansol.fr
SUMMARY:THEATRE
DESCRIPTION:Le dimanche 12 avril 2026\, à 16h00\, le théâtre Arlésien d’Arles-sur-Tech accueillera la troupe Vigatanes i Barretina pour une représentation de leur pièce « Une Belle Embrouille » à la Salle des Fêtes. Cet événement culturel promet une belle after-midi de divertissement pour les amateurs de théâtre et les curieux. \n« Une Belle Embrouille » est une pièce de théâtre qui mêle humour\, intrigue et jeu d’acteur. La troupe Vigatanes i Barretina\, connue pour ses performances dynamiques et engageantes\, présentera cette comédie pleine de rebondissements et de situations cocasses. Le public pourra apprécier le talent des acteurs qui incarnent des personnages hauts en couleur\, pris dans une série de quiproquos et de malentendus. La mise en scène soignée et les dialogues percutants garantissent un moment de détente et de rire. \nLa Salle des Fêtes d’Arles-sur-Tech\, située au 11 Rue du 14 Juillet\, est un lieu convivial et chaleureux\, idéal pour ce type de représentation. L’acoustique et la disposition de la salle permettent une proximité avec les acteurs\, offrant une expérience immersive aux spectateurs. \nLe tarif d’entrée est de 8\,00 €\, ce qui rend cet événement accessible à un large public. Les billets peuvent être achetés à l’avance ou sur place\, selon les disponibilités. \nVenir assister à « Une Belle Embrouille » par la troupe Vigatanes i Barretina est une excellente occasion de passer un bon moment en famille ou entre amis. Le spectacle est adapté à tous les publics\, et promet de divertir tant les adultes que les enfants. L’humour et les situations comiques de la pièce permettent de se détendre et de s’évader le temps d’une représentation. De plus\, c’est une belle opportunité de soutenir le théâtre local et de découvrir des artistes talentueux. \nNe manquez pas cette représentation théâtrale qui promet rires et bonne humeur dans un cadre agréable. Réservez dès maintenant vos places pour « Une Belle Embrouille » et venez profiter d’un moment de détente et de divertissement à Arles-sur-Tech. \nRendez-vous donc le dimanche 12 avril à 16h00 à la Salle des Fêtes pour une après-midi de théâtre inoubliable avec la troupe Vigatanes i Barretina. \n \nRéservez votre hébergement dans les Pyrénées-Orientales :\nMobil-home Locansol à Argelès-sur-MerTrajet le plus court : 39 kmTrajet le plus rapide : 46 min \nChalet Locansol à EstavarTrajet le plus court : 132 kmTrajet le plus rapide : 2 h 7 min
URL:https://www.locansol.fr/evenement/theatre-2/
LOCATION:11 Rue du 14 Juillet\, Arles-sur-Tech\, 11 Rue du 14 Juillet\, Arles-sur-Tech\, 66150\, France
CATEGORIES:Évènement Culturel,Pyrénées-Orientales,Théâtre
ATTACH;FMTTYPE=image/webp:https://www.locansol.fr/wp-content/uploads/2026/04/spectacle-theatre-arles-sur-tech.webp
END:VEVENT
BEGIN:VEVENT
DTSTART;VALUE=DATE:20260327
DTEND;VALUE=DATE:20260328
DTSTAMP:20260422T111659
CREATED:20260327T070909Z
LAST-MODIFIED:20260327T070911Z
UID:10000435-1774569600-1774655999@www.locansol.fr
SUMMARY:CONCERT DE JAZZ
DESCRIPTION:Le vendredi 27 mars\, Arles-sur-Tech accueillera un concert de jazz exceptionnel intitulé « Échos d’Images ». Ce rendez-vous musical se tiendra à la Salle des Fêtes\, située au 11 Rue du 14 Juillet\, à partir de 20h30 jusqu’à 23h00. L’entrée est gratuite\, offrant ainsi à tous l’opportunité de profiter de cette soirée.  Le concert « Échos d’Images » réunira trois talents du jazz : Alain Brunet\, Olivier Roman Garcia et Pascal Bouterin. Alain Brunet\, trompettiste et bugliste reconnu\, a débuté la trompette à l’âge de 10 ans et s’est rapidement distingué par ses performances avec des légendes du jazz comme Jef Gilson et Michel Portal. Olivier Roman Garcia\, guitariste électrique\, est connu pour son style personnel et sa curiosité musicale\, enseignant actuellement à la Jam (Jazz Action Montpellier). Pascal Bouterin\, batteur et percussionniste\, apporte une énergie unique avec ses balais et ses couleurs vibrantes\, également peintre-plasticien. Ensemble\, ils promettent une soirée mémorable.  Le concert « Échos d’Images » est une occasion unique de découvrir ou redécouvrir le jazz sous un angle nouveau. La combinaison des talents d’Alain Brunet\, Olivier Roman Garcia et Pascal Bouterin promet une expérience sensorielle riche. L’ambiance intime de la Salle des Fêtes d’Arles-sur-Tech et l’entrée gratuite en font un événement accessible à tous les amateurs de musique et aux curieux. Ne manquez pas cette soirée qui s’annonce inoubliable. \n \nRéservez votre hébergement dans les Pyrénées-Orientales :\nMobil-home Locansol à Argelès-sur-MerTrajet le plus court : 39 kmTrajet le plus rapide : 46 min \nChalet Locansol à EstavarTrajet le plus court : 132 kmTrajet le plus rapide : 2 h 7 min
URL:https://www.locansol.fr/evenement/concert-de-jazz/
LOCATION:11 Rue du 14 Juillet\, Arles-sur-Tech\, 11 Rue du 14 Juillet\, Arles-sur-Tech\, 66150\, France
CATEGORIES:Concert,Évènement Culturel,Pyrénées-Orientales
ATTACH;FMTTYPE=image/webp:https://www.locansol.fr/wp-content/uploads/2026/03/concert-jazz-gratuit-arles.webp
END:VEVENT
END:VCALENDAR