BEGIN:VCALENDAR
VERSION:2.0
PRODID:-//Locansol, louer un hébergement dans les Pyrénées Orientales - ECPv6.15.13.1//NONSGML v1.0//EN
CALSCALE:GREGORIAN
METHOD:PUBLISH
X-WR-CALNAME:Locansol, louer un hébergement dans les Pyrénées Orientales
X-ORIGINAL-URL:https://www.locansol.fr
X-WR-CALDESC:Évènements pour Locansol, louer un hébergement dans les Pyrénées Orientales
REFRESH-INTERVAL;VALUE=DURATION:PT1H
X-Robots-Tag:noindex
X-PUBLISHED-TTL:PT1H
BEGIN:VTIMEZONE
TZID:Europe/Paris
BEGIN:DAYLIGHT
TZOFFSETFROM:+0100
TZOFFSETTO:+0200
TZNAME:CEST
DTSTART:20250330T010000
END:DAYLIGHT
BEGIN:STANDARD
TZOFFSETFROM:+0200
TZOFFSETTO:+0100
TZNAME:CET
DTSTART:20251026T010000
END:STANDARD
BEGIN:DAYLIGHT
TZOFFSETFROM:+0100
TZOFFSETTO:+0200
TZNAME:CEST
DTSTART:20260329T010000
END:DAYLIGHT
BEGIN:STANDARD
TZOFFSETFROM:+0200
TZOFFSETTO:+0100
TZNAME:CET
DTSTART:20261025T010000
END:STANDARD
BEGIN:DAYLIGHT
TZOFFSETFROM:+0100
TZOFFSETTO:+0200
TZNAME:CEST
DTSTART:20270328T010000
END:DAYLIGHT
BEGIN:STANDARD
TZOFFSETFROM:+0200
TZOFFSETTO:+0100
TZNAME:CET
DTSTART:20271031T010000
END:STANDARD
END:VTIMEZONE
BEGIN:VEVENT
DTSTART;VALUE=DATE:20260324
DTEND;VALUE=DATE:20260325
DTSTAMP:20260420T110623
CREATED:20260331T220549Z
LAST-MODIFIED:20260331T220552Z
UID:10000466-1774310400-1774396799@www.locansol.fr
SUMMARY:EXPOSITION UNE BALEINE A PORT-VENDRES DE MARIE-JOSE DOUTRES
DESCRIPTION:Du 24 mars au 18 avril\, Port-Vendres accueille l’exposition « Une baleine à Port-Vendres » de Marie-José Doutres. Cette présentation unique met en lumière des carnets et des gravures inspirés par la découverte d’un squelette de baleine sur une plage en 1989. Marie-José Doutres\, artiste plasticienne\, transforme cet événement insolite en une narration visuelle riche en détails\, sensibilité et poésie. L’exposition se tient au 2 passage du Vieux-Port\, à Port-Vendres. \nL’exposition « Une baleine à Port-Vendres » de Marie-José Doutres est une invitation à découvrir une histoire fascinante à travers le regard d’une artiste. En 1989\, un squelette de baleine est retrouvé sur une plage\, un événement qui marque profondément la mémoire locale. Marie-José Doutres\, par ses carnets et gravures\, retrace cette découverte et la transforme en une œuvre d’art visuelle. Chaque pièce de l’exposition est une exploration délicate de la mémoire du territoire\, de l’imaginaire marin et de la finesse du geste artistique. \nMarie-José Doutres\, artiste plasticienne\, est connue pour son approche sensible et poétique. Ses œuvres\, souvent inspirées par le littoral et ses mystères\, captivent par leur précision et leur capacité à évoquer des émotions profondes. Pour cette exposition\, elle a puisé dans l’histoire locale pour créer une série de carnets et de gravures qui racontent l’histoire du squelette de baleine. Chaque pièce est une invitation à la réflexion et à l’émerveillement. \nL’exposition est ouverte à tous les publics\, y compris les enfants\, et l’entrée est gratuite. Elle s’inscrit dans une démarche culturelle et artistique\, offrant une expérience immersive et éducative. Les visiteurs pourront non seulement admirer les œuvres\, mais aussi en apprendre davantage sur l’histoire locale et la démarche artistique de Marie-José Doutres. \n### Une immersion poétique \nCette exposition est une occasion unique de s’immerger dans un univers où se croisent mémoire du territoire\, imaginaire marin et finesse du geste artistique. Les œuvres de Marie-José Doutres\, par leur délicatesse et leur poésie\, offrent une expérience sensorielle et émotionnelle riche. C’est une opportunité de découvrir une facette méconnue du littoral et de s’émerveiller devant la beauté et la profondeur des œuvres présentées. \n### Informations pratiques \nExposition « Une baleine à Port-Vendres » de Marie-José Doutres \nLieu : 2 passage du Vieux-Port\, Port-VendresDates : Du 24 mars au 18 avril \nEntrée gratuite. \nEn somme\, l’exposition « Une baleine à Port-Vendres » de Marie-José Doutres est une invitation à un voyage artistique et poétique\, où chaque visiteur pourra s’immerger dans une histoire fascinante et découvrir la beauté du littoral à travers le regard sensible d’une artiste. \nLa mise en avant des raisons de s’y rendre : \nL’exposition « Une baleine à Port-Vendres » de Marie-José Doutres est une expérience à ne pas manquer pour plusieurs raisons. Tout d’abord\, elle offre une immersion unique dans l’histoire locale et l’imaginaire marin. Les œuvres de Marie-José Doutres\, par leur finesse et leur poésie\, captivent et émerveillent. De plus\, l’exposition est une opportunité d’en apprendre davantage sur la démarche artistique de l’artiste et de découvrir des techniques comme la gravure et le carnet de voyage. Enfin\, l’entrée gratuite et l’accessibilité pour tous les publics en font un événement culturel ouvert et inclusif. Que vous soyez passionné d’art\, curieux de l’histoire locale ou simplement à la recherche d’une sortie enrichissante\, cette exposition saura vous séduire par sa sensibilité et sa profondeur. \n \nRéservez votre hébergement dans les Pyrénées-Orientales :\nMobil-home Locansol à Argelès-sur-MerTrajet le plus court : 12 kmTrajet le plus rapide : 17 min \nChalet Locansol à EstavarTrajet le plus court : 128 kmTrajet le plus rapide : 1 h 59 min
URL:https://www.locansol.fr/evenement/exposition-une-baleine-a-port-vendres-de-marie-jose-doutres/
LOCATION:2 Passage du Vieux-Port\, Port-Vendres\, 2 Passage du Vieux-Port\, Port-Vendres\, 66660\, France
CATEGORIES:Animaux,Évènement Culturel,Exposition,Faune /Flore,Loisirs,Peinture,Pour enfant,Pyrénées-Orientales
ATTACH;FMTTYPE=image/webp:https://www.locansol.fr/wp-content/uploads/2026/04/baleine-port-vendres-exposition-artistique.webp
END:VEVENT
BEGIN:VEVENT
DTSTART;VALUE=DATE:20260321
DTEND;VALUE=DATE:20260322
DTSTAMP:20260420T110623
CREATED:20260321T071923Z
LAST-MODIFIED:20260321T071926Z
UID:10000402-1774051200-1774137599@www.locansol.fr
SUMMARY:CONCERT GUINGUETTE « HOT MOON JET »\, À LA MÉDITHÈQUE
DESCRIPTION:L’événement « Concert Guinguette » avec le groupe Hot Moon Jet est prévu à la Médiathèque de Port-Vendres\, le samedi 21 mars 2026 à 11h00. Située au 2 Passage du Vieux-Port\, la Médiathèque de Port-Vendres offre un cadre convivial pour ce concert gratuit et ouvert à tous.   Le concert promet une ambiance festive avec un programme mêlant old time swing et chansons françaises\, le tout à la sauce guinguette. Le groupe Hot Moon Jet\, connu pour son énergie communicative et son style rétro\, saura faire vibrer la médiathèque avec des morceaux entraînants et des reprises de chansons françaises. Le public pourra profiter de cette matinée musicale dans une atmosphère détendue et chaleureuse.   Ce concert est une belle occasion de découvrir ou redécouvrir la médiathèque sous un nouveau jour. L’entrée est libre et gratuite\, ce qui permet à tous de venir profiter de ce moment musical sans contrainte. C’est aussi l’opportunité de passer un moment agréable en famille ou entre amis\, dans un lieu culturel emblématique de Port-Vendres. La médiathèque\, habituellement dédiée au calme et à la lecture\, se transformera pour l’occasion en une véritable scène de fête\, prouvant qu’on peut bel et bien chanter et danser entre ses murs.   Pour plus d’informations\, vous pouvez contacter la Médiathèque de Port-Vendres au 04 68 82 25 79. \n \nRéservez votre hébergement dans les Pyrénées-Orientales :\nMobil-home Locansol à Argelès-sur-MerTrajet le plus court : 12 kmTrajet le plus rapide : 17 min \nChalet Locansol à EstavarTrajet le plus court : 128 kmTrajet le plus rapide : 1 h 59 min
URL:https://www.locansol.fr/evenement/concert-guinguette-hot-moon-jet-a-la-meditheque/
LOCATION:2 Passage du Vieux-Port\, Port-Vendres\, 2 Passage du Vieux-Port\, Port-Vendres\, 66660\, France
CATEGORIES:Concert,Évènement Culturel,Pyrénées-Orientales
ATTACH;FMTTYPE=image/webp:https://www.locansol.fr/wp-content/uploads/2026/03/concert-guinguette-port-vendres-hot-moon-jet.webp
END:VEVENT
BEGIN:VEVENT
DTSTART;VALUE=DATE:20260213
DTEND;VALUE=DATE:20260214
DTSTAMP:20260420T110623
CREATED:20260213T021609Z
LAST-MODIFIED:20260213T021609Z
UID:10000042-1770940800-1771027199@www.locansol.fr
SUMMARY:ATELIER BRODERIE POUR ADULTES
DESCRIPTION:L’atelier de broderie pour adultes se tiendra le vendredi 13 février à 15h\, au 2 Passage du Vieux-Port à Port-Vendres\, dans la médiathèque intercommunale du territoire. Animé par Claudia Comelade\, brodeuse et graphiste originaire de Perpignan\, cet atelier s’inscrit dans une démarche de transmission du savoir-faire artisanal. Le thème de la séance\, consacré à la mer\, invite les participants à s’inspirer des formes marines pour créer des motifs originaux en broderie. L’atelier est gratuit et ouvert à tous\, sans expérience préalable requise. Il est limité à dix places pour assurer une ambiance conviviale et un accompagnement personnalisé. Les participants recevront le matériel nécessaire. Organisé par le réseau des médiathèques de l’Albères Côte Vermeille Illibéris\, cet événement fait partie du programme culturel local\, qui met en valeur les arts du fil et les pratiques créatives. Pour réserver ou obtenir des informations complémentaires\, il est possible de contacter la médiathèque au 04 68 82 25 79. L’atelier propose une immersion douce dans la création manuelle\, idéale pour se déconnecter du quotidien et redécouvrir le plaisir du geste précis. \n \nRéservez votre hébergement dans les Pyrénées-Orientales :\nMobil-home Locansol à Argelès-sur-MerTrajet le plus court : 12 kmTrajet le plus rapide : 17 min \nChalet Locansol à EstavarTrajet le plus court : 128 kmTrajet le plus rapide : 1 h 59 min
URL:https://www.locansol.fr/evenement/atelier-broderie-pour-adultes/
LOCATION:2 Passage du Vieux-Port\, Port-Vendres\, 2 Passage du Vieux-Port\, Port-Vendres\, 66660\, France
CATEGORIES:Loisirs
ATTACH;FMTTYPE=image/webp:https://www.locansol.fr/wp-content/uploads/2026/02/broderie-marine-port-vendres-gratuit.webp
END:VEVENT
END:VCALENDAR