BEGIN:VCALENDAR
VERSION:2.0
PRODID:-//Locansol, louer un hébergement dans les Pyrénées Orientales - ECPv6.15.13.1//NONSGML v1.0//EN
CALSCALE:GREGORIAN
METHOD:PUBLISH
X-ORIGINAL-URL:https://www.locansol.fr
X-WR-CALDESC:Évènements pour Locansol, louer un hébergement dans les Pyrénées Orientales
REFRESH-INTERVAL;VALUE=DURATION:PT1H
X-Robots-Tag:noindex
X-PUBLISHED-TTL:PT1H
BEGIN:VTIMEZONE
TZID:Europe/Paris
BEGIN:DAYLIGHT
TZOFFSETFROM:+0100
TZOFFSETTO:+0200
TZNAME:CEST
DTSTART:20250330T010000
END:DAYLIGHT
BEGIN:STANDARD
TZOFFSETFROM:+0200
TZOFFSETTO:+0100
TZNAME:CET
DTSTART:20251026T010000
END:STANDARD
BEGIN:DAYLIGHT
TZOFFSETFROM:+0100
TZOFFSETTO:+0200
TZNAME:CEST
DTSTART:20260329T010000
END:DAYLIGHT
BEGIN:STANDARD
TZOFFSETFROM:+0200
TZOFFSETTO:+0100
TZNAME:CET
DTSTART:20261025T010000
END:STANDARD
BEGIN:DAYLIGHT
TZOFFSETFROM:+0100
TZOFFSETTO:+0200
TZNAME:CEST
DTSTART:20270328T010000
END:DAYLIGHT
BEGIN:STANDARD
TZOFFSETFROM:+0200
TZOFFSETTO:+0100
TZNAME:CET
DTSTART:20271031T010000
END:STANDARD
END:VTIMEZONE
BEGIN:VEVENT
DTSTART;VALUE=DATE:20260421
DTEND;VALUE=DATE:20260422
DTSTAMP:20260421T155114
CREATED:20260420T221205Z
LAST-MODIFIED:20260420T221207Z
UID:10000614-1776729600-1776815999@www.locansol.fr
SUMMARY:VISITE GUIDEE « ELNE HISTORIQUE »
DESCRIPTION:La visite guidée « Elne Historique » est une opportunité unique de découvrir l’histoire et le patrimoine de cette ville emblématique. Que vous soyez passionné d’histoire\, amateur de culture ou simplement curieux\, cette visite vous offre une immersion totale dans le passé d’Elne. Vous découvrirez des sites archéologiques fascinants\, tels que les fouilles du plateau des Garaffes\, qui ont révélé des vestiges d’une cathédrale primitive datant du VIe siècle. Ces fouilles ont mis au jour des fondations monumentales\, incluant un chevet de 12\,70 m de diamètre et une nef large de plus de 18 m. La visite vous emmènera également à travers les rues de la ville haute d’Elne\, où vous pourrez admirer son patrimoine culturel et architectural. Les vestiges actuels\, tels que les tours\, portes et courtines\, remontent aux XIIIe et XIVe siècles\, offrant un aperçu de l’histoire médiévale de la ville. Vous aurez également l’occasion de visiter le Musée archéologique d’Elne\, qui expose des trésors archéologiques découverts dans la région. Cette visite est une excellente occasion de découvrir l’histoire d’Elne\, ancienne capitale du Roussillon\, tout en profitant d’une vue imprenable sur la plaine et les contreforts des Albères. La visite est organisée par l’Office de Tourisme Intercommunal Pyrénées Méditerranée dans le cadre du Printemps Mar i Munt\, une initiative qui met en avant le patrimoine culturel et naturel de la région. La visite guidée « Elne Historique » est une expérience enrichissante qui vous plonge dans 27 siècles d’histoire. C’est une opportunité idéale pour les amateurs de culture et de patrimoine de découvrir les trésors cachés d’Elne et de mieux comprendre son passé fascinant. Rendez-vous devant l’Office de tourisme d’Elne. Durée : 1h30 \n \nRéservez votre hébergement dans les Pyrénées-Orientales :\nMobil-home Locansol à Argelès-sur-MerTrajet le plus court : 10 kmTrajet le plus rapide : 12 min \nChalet Locansol à EstavarTrajet le plus court : 108 kmTrajet le plus rapide : 1 h 43 min
URL:https://www.locansol.fr/evenement/visite-guidee-elne-historique-4/
LOCATION:2 Rue du Couvent\, Elne\, 2 Rue du Couvent\, Elne\, 66200\, France
CATEGORIES:Évènement Culturel,Histoire,Pyrénées-Orientales,Visite guidée
ATTACH;FMTTYPE=image/webp:https://www.locansol.fr/wp-content/uploads/2026/04/visite-guidee-elne-histoire.webp
END:VEVENT
END:VCALENDAR