BEGIN:VCALENDAR
VERSION:2.0
PRODID:-//Locansol, louer un hébergement dans les Pyrénées Orientales - ECPv6.15.13.1//NONSGML v1.0//EN
CALSCALE:GREGORIAN
METHOD:PUBLISH
X-WR-CALNAME:Locansol, louer un hébergement dans les Pyrénées Orientales
X-ORIGINAL-URL:https://www.locansol.fr
X-WR-CALDESC:Évènements pour Locansol, louer un hébergement dans les Pyrénées Orientales
REFRESH-INTERVAL;VALUE=DURATION:PT1H
X-Robots-Tag:noindex
X-PUBLISHED-TTL:PT1H
BEGIN:VTIMEZONE
TZID:Europe/Paris
BEGIN:DAYLIGHT
TZOFFSETFROM:+0100
TZOFFSETTO:+0200
TZNAME:CEST
DTSTART:20240331T010000
END:DAYLIGHT
BEGIN:STANDARD
TZOFFSETFROM:+0200
TZOFFSETTO:+0100
TZNAME:CET
DTSTART:20241027T010000
END:STANDARD
BEGIN:DAYLIGHT
TZOFFSETFROM:+0100
TZOFFSETTO:+0200
TZNAME:CEST
DTSTART:20250330T010000
END:DAYLIGHT
BEGIN:STANDARD
TZOFFSETFROM:+0200
TZOFFSETTO:+0100
TZNAME:CET
DTSTART:20251026T010000
END:STANDARD
BEGIN:DAYLIGHT
TZOFFSETFROM:+0100
TZOFFSETTO:+0200
TZNAME:CEST
DTSTART:20260329T010000
END:DAYLIGHT
BEGIN:STANDARD
TZOFFSETFROM:+0200
TZOFFSETTO:+0100
TZNAME:CET
DTSTART:20261025T010000
END:STANDARD
END:VTIMEZONE
BEGIN:VEVENT
DTSTART;VALUE=DATE:20250204
DTEND;VALUE=DATE:20250216
DTSTAMP:20260420T110452
CREATED:20260213T005337Z
LAST-MODIFIED:20260213T005337Z
UID:10000020-1738627200-1739663999@www.locansol.fr
SUMMARY:EXPOSITION - LES AMOUREUX DE PEYNET S’EXPOSENT-
DESCRIPTION:Du 4 au 15 février 2025\, le Musée Terrus d’Elne accueille une exposition temporaire dédiée aux célèbres « Amoureux de Peynet ». Cette manifestation\, organisée à l’approche de la Saint-Valentin\, met en lumière trois œuvres authentiques du dessinateur Raymond Peynet\, créateur en 1942 du couple symbolique de l’amour à la française. Ces dessins\, exposés au premier étage dans le cadre de l’exposition Terrus\, offrent un moment de poésie et de douceur\, en contraste avec la dimension archéologique du musée située au rez-de-chaussée. L’œuvre de Peynet\, connue pour sa sobriété graphique et son humour subtil\, continue d’inspirer de nouvelles générations. Le Musée Terrus\, installé dans le centre historique d’Elne\, propose une expérience culturelle unique où l’art contemporain dialogue avec des sarcophages antiques. L’exposition est ouverte du mardi au dimanche\, de 9h30 à 18h (dernière entrée à 17h). Le tarif d’entrée est de 5\,00 € pour les adultes. L’événement s’inscrit dans une programmation culturelle locale qui valorise le patrimoine artistique du Roussillon. \n \nRéservez votre hébergement dans les Pyrénées-Orientales :\nMobil-home Locansol à Argelès-sur-MerTrajet le plus court : 61 kmTrajet le plus rapide : 1 h 0 min \nChalet Locansol à EstavarTrajet le plus court : 65 kmTrajet le plus rapide : 1 h 14 min
URL:https://www.locansol.fr/evenement/exposition-les-amoureux-de-peynet-sexposent/
LOCATION:3 Rue Porte Balaguer\, Elne\, 3 Rue Porte Balaguer\, Pyrénées-Orientales\, France
CATEGORIES:Évènement Culturel,Exposition
ATTACH;FMTTYPE=image/webp:https://www.locansol.fr/wp-content/uploads/2026/02/exposition-amoureux-peynet-elne.webp
END:VEVENT
END:VCALENDAR