BEGIN:VCALENDAR
VERSION:2.0
PRODID:-//Locansol, louer un hébergement dans les Pyrénées Orientales - ECPv6.15.13.1//NONSGML v1.0//EN
CALSCALE:GREGORIAN
METHOD:PUBLISH
X-WR-CALNAME:Locansol, louer un hébergement dans les Pyrénées Orientales
X-ORIGINAL-URL:https://www.locansol.fr
X-WR-CALDESC:Évènements pour Locansol, louer un hébergement dans les Pyrénées Orientales
REFRESH-INTERVAL;VALUE=DURATION:PT1H
X-Robots-Tag:noindex
X-PUBLISHED-TTL:PT1H
BEGIN:VTIMEZONE
TZID:Europe/Paris
BEGIN:DAYLIGHT
TZOFFSETFROM:+0100
TZOFFSETTO:+0200
TZNAME:CEST
DTSTART:20250330T010000
END:DAYLIGHT
BEGIN:STANDARD
TZOFFSETFROM:+0200
TZOFFSETTO:+0100
TZNAME:CET
DTSTART:20251026T010000
END:STANDARD
BEGIN:DAYLIGHT
TZOFFSETFROM:+0100
TZOFFSETTO:+0200
TZNAME:CEST
DTSTART:20260329T010000
END:DAYLIGHT
BEGIN:STANDARD
TZOFFSETFROM:+0200
TZOFFSETTO:+0100
TZNAME:CET
DTSTART:20261025T010000
END:STANDARD
BEGIN:DAYLIGHT
TZOFFSETFROM:+0100
TZOFFSETTO:+0200
TZNAME:CEST
DTSTART:20270328T010000
END:DAYLIGHT
BEGIN:STANDARD
TZOFFSETFROM:+0200
TZOFFSETTO:+0100
TZNAME:CET
DTSTART:20271031T010000
END:STANDARD
END:VTIMEZONE
BEGIN:VEVENT
DTSTART;VALUE=DATE:20260421
DTEND;VALUE=DATE:20260422
DTSTAMP:20260422T124943
CREATED:20260422T001707Z
LAST-MODIFIED:20260422T001710Z
UID:10000622-1776729600-1776815999@www.locansol.fr
SUMMARY:RÉCITAL DE CHANTS SACRÉS ET D'EXTRAITS D'OPÉRAS
DESCRIPTION:Le mardi 21 avril à 16h00\, la troupe Chants de Si de La d’Amélie-les-Bains vous propose un récital de chants sacrés et d’extraits d’opéras à la salle située Rue des Thermes. Ce rendez-vous musical mettra en lumière un programme riche et varié\, avec des œuvres d’Haendel\, Saint-Saëns\, César Franck\, Caccini\, Pergolèse\, et bien d’autres. Les amateurs d’opéra pourront également savourer des extraits célèbres de Roméo et Juliette\, Les Pêcheurs de perles\, Eugène Onéguine\, et bien d’autres encore. Le récital se conclura par des gospels\, ajoutant une touche spirituelle et dynamique à l’ensemble. \nLe concert sera interprété par des artistes de talent : Giséle Xerri (soprano léger)\, Hélène Daviaud (soprano dramatique)\, et Lambert Barthés (ténor). Ils seront accompagnés au piano par François-Michel Rignol\, un pianiste de renommée nationale. François-Michel Rignol\, après de brillantes études en mathématiques\, a décidé de se consacrer à la musique. Il partage son temps entre l’enseignement au Conservatoire National de Région de Perpignan et ses concerts à travers le monde (France\, Brésil\, Espagne\, Japon\, Finlande\, Italie\, Allemagne…). \nCe récital est une excellente occasion de découvrir ou redécouvrir des œuvres majeures du répertoire classique\, interprétées avec une grande maîtrise vocale et instrumentale. La diversité des pièces proposées permet de voyager à travers différentes époques et styles musicaux\, offrant ainsi une expérience enrichissante pour les mélomanes comme pour les néophytes. Le cadre intimiste de la salle et l’acoustique de qualité contribueront à créer une ambiance propice à l’écoute et à l’émotion. \nL’entrée est à 10 euros\, gratuite pour les enfants jusqu’à 14 ans. Le programme sera disponible à l’achat pour 1 euro\, et les bénéfices seront reversés à la paroisse locale. Ne manquez pas cette belle fin d’après-midi musicale en compagnie de la troupe Chants de Si de La\, une association qui anime la vie culturelle d’Amélie-les-Bains depuis 29 ans. \n \nRéservez votre hébergement dans les Pyrénées-Orientales :\nMobil-home Locansol à Argelès-sur-MerTrajet le plus court : 36 kmTrajet le plus rapide : 41 min \nChalet Locansol à EstavarTrajet le plus court : 128 kmTrajet le plus rapide : 2 h 2 min
URL:https://www.locansol.fr/evenement/recital-de-chants-sacres-et-dextraits-doperas/
LOCATION:5 rue des Thermes\, Amélie-les-Bains-Palalda\, 5 rue des Thermes\, Amélie-les-Bains-Palalda\, 66110\, France
CATEGORIES:Chant,Concert,Évènement Culturel,Musique,Pyrénées-Orientales
ATTACH;FMTTYPE=image/webp:https://www.locansol.fr/wp-content/uploads/2026/04/recital-sacre-amelie-les-bains.webp
END:VEVENT
BEGIN:VEVENT
DTSTART;VALUE=DATE:20260331
DTEND;VALUE=DATE:20260401
DTSTAMP:20260422T124944
CREATED:20260331T201317Z
LAST-MODIFIED:20260331T201321Z
UID:10000463-1774915200-1775001599@www.locansol.fr
SUMMARY:VISITE GUIDÉE DES THERMES
DESCRIPTION:Les Thermes d’Amélie-les-Bains sont une station thermale située dans les Pyrénées-Orientales\, en France. Ils sont connus pour leurs eaux thérapeutiques\, spécialisées dans le traitement de la rhumatologie et des voies respiratoires. La station est ouverte de fin janvier à début décembre\, offrant des soins et des cures adaptés à ces orientations thérapeutiques.   L’histoire des thermes remonte à l’époque romaine\, où les premières constructions thermales ont été érigées pour profiter des sources chaudes naturelles de la région. Les Romains avaient déjà repéré ces émergences d’eau chaude et bâti autour d’elles leurs premiers thermes. Aujourd’hui\, les thermes d’Amélie-les-Bains continuent de bénéficier des vertus séculaires de ces eaux sulfureuses et siliciques\, qui émanent des profondeurs de la terre.   La station thermale d’Amélie-les-Bains est également remarquable pour son architecture et son patrimoine historique. Les visiteurs peuvent découvrir la salle de la piscine romaine\, un vestige bien conservé des thermes antiques. Cette salle\, avec ses caractéristiques architecturales uniques\, témoigne de l’importance des thermes dans la vie quotidienne des Romains et de leur savoir-faire en matière de construction.   Les thermes d’Amélie-les-Bains offrent une expérience thermale complète\, alliant les bienfaits des eaux thermales à un environnement naturel préservé. Les curistes peuvent profiter de divers soins et traitements adaptés à leurs besoins spécifiques\, tout en bénéficiant du cadre paisible et ressourçant des Pyrénées-Orientales. La station thermale est un lieu idéal pour se revitaliser et profiter des bienfaits de l’eau thermale\, tout en découvrant l’histoire et le patrimoine de la région.   En résumé\, les thermes d’Amélie-les-Bains sont une destination incontournable pour ceux qui souhaitent allier bien-être et découverte du patrimoine historique. Que ce soit pour une cure thermale ou pour une visite touristique\, les thermes offrent une expérience unique et enrichissante\, ancrée dans l’histoire et les traditions thermales.   Le mardi 31 mars à 14h15\, une visite guidée des Thermes d’Amélie-les-Bains-Palalda vous plongera dans la riche histoire de cette station thermale emblématique. Située dans les Pyrénées-Orientales\, cette visite vous permettra de (re)découvrir la saga familiale de la Chaîne Thermale du Soleil\, l’histoire fascinante de la construction des thermes du Mondony\, ainsi que les vertus de l’eau thermale utilisée dans les soins.   La visite commencera par une présentation des soins thermaux\, suivie d’une exploration de la partie historique des thermes romains. Vous aurez l’occasion de voir la salle du XVIIIème siècle et la voûte du IIème siècle\, classée aux monuments historiques. La visite se poursuivra avec une pause devant la cascade d’Hannibal\, avant de vous offrir un accès exclusif à certaines zones techniques des thermes.   Cette visite guidée est une opportunité unique de découvrir les coulisses des thermes d’Amélie-les-Bains-Palalda. Vous serez immergé dans l’histoire et le patrimoine de ce lieu exceptionnel\, tout en bénéficiant des explications détaillées de votre guide. L’entrée est gratuite\, mais les places sont limitées\, il est donc recommandé de réserver à l’avance aux thermes ou par téléphone au 04 68 87 94 55.   Ne manquez pas cette occasion de découvrir les secrets des thermes d’Amélie-les-Bains-Palalda et de profiter d’une expérience culturelle et historique enrichissante. \n \nRéservez votre hébergement dans les Pyrénées-Orientales :\nMobil-home Locansol à Argelès-sur-MerTrajet le plus court : 36 kmTrajet le plus rapide : 41 min \nChalet Locansol à EstavarTrajet le plus court : 128 kmTrajet le plus rapide : 2 h 2 min
URL:https://www.locansol.fr/evenement/visite-guidee-des-thermes-2/
LOCATION:5 rue des Thermes\, Amélie-les-Bains-Palalda\, 5 rue des Thermes\, Amélie-les-Bains-Palalda\, 66110\, France
CATEGORIES:Évènement Culturel,Pyrénées-Orientales,Visite guidée
ATTACH;FMTTYPE=image/webp:https://www.locansol.fr/wp-content/uploads/2026/03/thermes-romains-amelie-bains.webp
END:VEVENT
BEGIN:VEVENT
DTSTART;VALUE=DATE:20260324
DTEND;VALUE=DATE:20260325
DTSTAMP:20260422T124944
CREATED:20260324T172224Z
LAST-MODIFIED:20260324T172227Z
UID:10000423-1774310400-1774396799@www.locansol.fr
SUMMARY:VISITE GUIDÉE DES THERMES
DESCRIPTION:Mardi 24 mars à 14h15\, les Thermes d’Amélie-les-Bains-Palalda vous invitent à une visite guidée exceptionnelle. Située dans les Pyrénées-Orientales\, cette station thermale renommée vous ouvre ses portes pour une exploration unique de son patrimoine et de son histoire.  La visite débutera par la découverte de la saga familiale de la Chaîne Thermale du Soleil\, qui a marqué l’histoire des thermes du Mondony. Vous plongerez dans les secrets de la construction de ce lieu emblématique et découvrirez les vertus de l’eau thermale\, utilisée depuis des siècles pour ses bienfaits. La visite se poursuivra par une présentation des soins proposés\, mettant en lumière les techniques modernes et traditionnelles qui font la réputation des thermes.  Un des moments forts de la visite sera l’exploration de la partie historique des thermes romains. Vous aurez l’occasion d’admirer la salle du XVIIIe siècle et la voûte du IIe siècle\, classée aux monuments historiques. Ce voyage dans le temps sera complété par une pause devant la cascade d’Hannibal\, un site naturel d’une rare beauté. En exclusivité\, vous aurez également accès à certaines zones techniques des thermes\, habituellement fermées au public.  Cette visite guidée est une opportunité unique de découvrir les coulisses d’un établissement thermal d’exception. Que vous soyez passionné d’histoire\, curieux des bienfaits de l’eau thermale ou simplement à la recherche d’une activité culturelle enrichissante\, cette visite saura vous captiver. L’entrée est gratuite\, mais les places sont limitées. Réservez dès maintenant aux thermes ou par téléphone au 04 68 87 94 55 pour garantir votre participation.  Les Thermes d’Amélie-les-Bains-Palalda sont nichés dans un cadre naturel exceptionnel\, au cœur du Vallespir\, en Pays Catalan. La station bénéficie d’un microclimat agréable\, avec un air pur et un ensoleillement généreux. Cette situation géographique privilégiée\, entre montagnes et Méditerranée\, en fait un lieu de détente et de bien-être unique.  La visite guidée des Thermes d’Amélie-les-Bains-Palalda promet d’être une expérience enrichissante et mémorable. Ne manquez pas cette occasion de découvrir un patrimoine historique et naturel d’exception\, tout en profitant des bienfaits de l’eau thermale. Réservez votre place dès maintenant et laissez-vous envoûter par la magie de ce lieu unique.  Les Thermes d’Amélie-les-Bains-Palalda sont un établissement thermal d’origine romaine\, fréquenté depuis le Haut-Empire romain pour ses vertus curatives. La station thermale est réputée pour ses cures en rhumatologie et voies respiratoires\, grâce à ses sources sulfurées et à son climat bénéfique. La visite guidée vous permettra de découvrir l’ancienne piscine du XIXe siècle\, restaurée en tisanerie et classée monument historique\, ainsi que les techniques modernes et traditionnelles utilisées pour les soins.  Cette visite est une occasion unique de plonger dans l’histoire et le patrimoine des Thermes d’Amélie-les-Bains-Palalda. Vous découvrirez les secrets de la construction des thermes du Mondony\, les vertus de l’eau thermale et les soins proposés. La visite de la partie historique des thermes romains\, avec sa salle du XVIIIe siècle et sa voûte du IIe siècle\, vous transportera dans le passé. La pause devant la cascade d’Hannibal et l’accès exclusif aux zones techniques compléteront cette expérience inoubliable.  Ne manquez pas cette visite guidée gratuite\, mais réservez rapidement\, car les places sont limitées. Les Thermes d’Amélie-les-Bains-Palalda vous attendent pour une découverte unique de leur patrimoine et de leurs bienfaits. \n \nRéservez votre hébergement dans les Pyrénées-Orientales :\nMobil-home Locansol à Argelès-sur-MerTrajet le plus court : 36 kmTrajet le plus rapide : 41 min \nChalet Locansol à EstavarTrajet le plus court : 128 kmTrajet le plus rapide : 2 h 2 min
URL:https://www.locansol.fr/evenement/visite-guidee-des-thermes/
LOCATION:5 rue des Thermes\, Amélie-les-Bains-Palalda\, 5 rue des Thermes\, Amélie-les-Bains-Palalda\, 66110\, France
CATEGORIES:Évènement Culturel,Pyrénées-Orientales,Visite guidée
ATTACH;FMTTYPE=image/webp:https://www.locansol.fr/wp-content/uploads/2026/03/amelie-les-bains-thermes-romains.webp
END:VEVENT
BEGIN:VEVENT
DTSTART;VALUE=DATE:20260217
DTEND;VALUE=DATE:20260218
DTSTAMP:20260422T124944
CREATED:20260217T070936Z
LAST-MODIFIED:20260217T070938Z
UID:10000134-1771286400-1771372799@www.locansol.fr
SUMMARY:FESTIVAL CARTE BLANCHE
DESCRIPTION:Le mardi 17 février à 17h30\, Amélie-les-Bains-Palalda accueille une projection gratuite dans le cadre du Festival Carte Blanche. Deux documentaires réalisés par Marc Péguy Nauroy seront présentés : « L’Ours » (20 minutes) et « Entre deux ours » (25 minutes)\, pour une durée totale de 45 minutes. Ces films s’inscrivent dans le contexte des Fêtes de l’Ours\, une tradition annuelle du mois de février\, inscrite au Patrimoine Culturel Immatériel de l’UNESCO. Ils explorent les représentations de l’ours dans les Pyrénées\, notamment dans les villages du Haut-Vallespir\, à travers des témoignages de résidents\, d’ethnologues et de spécialistes. Le Festival Carte Blanche\, organisé par l’Agence d’Attraction Touristique Haut-Vallespir\, propose chaque mois des projections gratuites dans plusieurs communes du territoire\, dans un esprit de partage culturel et de découverte du réel. L’événement se déroule à la salle du Conseil Municipal\, située au 5 rue des Thermes\, dans un cadre chaleureux et accessible à tous. Cette séance offre une occasion de s’immerger dans une culture locale riche et singulière\, tout en découvrant une démarche documentaire sensible et engagée. \n \nRéservez votre hébergement dans les Pyrénées-Orientales :\nMobil-home Locansol à Argelès-sur-MerTrajet le plus court : 36 kmTrajet le plus rapide : 41 min \nChalet Locansol à EstavarTrajet le plus court : 128 kmTrajet le plus rapide : 2 h 2 min
URL:https://www.locansol.fr/evenement/festival-carte-blanche/
LOCATION:5 rue des Thermes\, Amélie-les-Bains-Palalda\, 5 rue des Thermes\, Amélie-les-Bains-Palalda\, 66110\, France
CATEGORIES:Évènement Culturel,Festival,Pyrénées-Orientales
ATTACH;FMTTYPE=image/webp:https://www.locansol.fr/wp-content/uploads/2026/02/festival-traditions-ours-pyrenees.webp
END:VEVENT
END:VCALENDAR