BEGIN:VCALENDAR
VERSION:2.0
PRODID:-//Locansol, louer un hébergement dans les Pyrénées Orientales - ECPv6.15.13.1//NONSGML v1.0//EN
CALSCALE:GREGORIAN
METHOD:PUBLISH
X-ORIGINAL-URL:https://www.locansol.fr
X-WR-CALDESC:Évènements pour Locansol, louer un hébergement dans les Pyrénées Orientales
REFRESH-INTERVAL;VALUE=DURATION:PT1H
X-Robots-Tag:noindex
X-PUBLISHED-TTL:PT1H
BEGIN:VTIMEZONE
TZID:Europe/Paris
BEGIN:DAYLIGHT
TZOFFSETFROM:+0100
TZOFFSETTO:+0200
TZNAME:CEST
DTSTART:20250330T010000
END:DAYLIGHT
BEGIN:STANDARD
TZOFFSETFROM:+0200
TZOFFSETTO:+0100
TZNAME:CET
DTSTART:20251026T010000
END:STANDARD
BEGIN:DAYLIGHT
TZOFFSETFROM:+0100
TZOFFSETTO:+0200
TZNAME:CEST
DTSTART:20260329T010000
END:DAYLIGHT
BEGIN:STANDARD
TZOFFSETFROM:+0200
TZOFFSETTO:+0100
TZNAME:CET
DTSTART:20261025T010000
END:STANDARD
BEGIN:DAYLIGHT
TZOFFSETFROM:+0100
TZOFFSETTO:+0200
TZNAME:CEST
DTSTART:20270328T010000
END:DAYLIGHT
BEGIN:STANDARD
TZOFFSETFROM:+0200
TZOFFSETTO:+0100
TZNAME:CET
DTSTART:20271031T010000
END:STANDARD
END:VTIMEZONE
BEGIN:VEVENT
DTSTART;VALUE=DATE:20260203
DTEND;VALUE=DATE:20260228
DTSTAMP:20260421T132320
CREATED:20260213T011338Z
LAST-MODIFIED:20260213T011338Z
UID:10000028-1770076800-1772236799@www.locansol.fr
SUMMARY:EXPOSITION DE PEINTURES DE PHILIPPE LLECH
DESCRIPTION:L’exposition de peintures de Philippe Llech se tient à Prades\, du 3 au 27 février 2026\, à l’Espace Martin Vivès\, situé 81 bis rue du Palais de Justice. Cette manifestation culturelle est accessible gratuitement au public. L’artiste\, autodidacte originaire de Perpignan et installé à Catllar\, présente une œuvre marquée par un trait spontané et une démarche expressive. Ses tableaux\, souvent associés à l’abstraction symbolique et à l’expressionnisme\, évoquent des univers oniriques et introspectifs\, où chaque détail invite à une réflexion personnelle. L’ouverture de l’exposition est prévue du mardi au samedi\, de 9h30 à 12h00 et de 14h30 à 17h30. Un vernissage est organisé le samedi 7 février à 11h\, moment privilégié pour découvrir l’ensemble des œuvres en présence de l’artiste. L’Espace Martin Vivès\, installé dans une ancienne prison du XIXe siècle récemment restaurée\, accueille cette exposition temporaire dans un cadre patrimonial au cœur du centre-ville. Cette rencontre artistique offre une occasion de découvrir un regard sensible et poétique sur le paysage et la mémoire\, à travers les œuvres de Philippe Llech. \n \nRéservez votre hébergement dans les Pyrénées-Orientales :\nChalet Locansol à EstavarTrajet le plus court : 17 kmTrajet le plus rapide : 19 min \nMobil-home Locansol à Argelès-sur-MerTrajet le plus court : 108 kmTrajet le plus rapide : 1 h 41 min
URL:https://www.locansol.fr/evenement/exposition-de-peintures-de-philippe-llech/
LOCATION:81 Bis rue du Palais de justice\, Prades\, 81 Bis rue du Palais de justice\, Chalet du Ticou\, 66400\, France
CATEGORIES:Évènement Culturel,Exposition
ATTACH;FMTTYPE=image/webp:https://www.locansol.fr/wp-content/uploads/2026/02/exposition-peintures-Philippe-Llech.webp
END:VEVENT
END:VCALENDAR