BEGIN:VCALENDAR
VERSION:2.0
PRODID:-//Locansol, louer un hébergement dans les Pyrénées Orientales - ECPv6.15.13.1//NONSGML v1.0//EN
CALSCALE:GREGORIAN
METHOD:PUBLISH
X-ORIGINAL-URL:https://www.locansol.fr
X-WR-CALDESC:Évènements pour Locansol, louer un hébergement dans les Pyrénées Orientales
REFRESH-INTERVAL;VALUE=DURATION:PT1H
X-Robots-Tag:noindex
X-PUBLISHED-TTL:PT1H
BEGIN:VTIMEZONE
TZID:Europe/Paris
BEGIN:DAYLIGHT
TZOFFSETFROM:+0100
TZOFFSETTO:+0200
TZNAME:CEST
DTSTART:20250330T010000
END:DAYLIGHT
BEGIN:STANDARD
TZOFFSETFROM:+0200
TZOFFSETTO:+0100
TZNAME:CET
DTSTART:20251026T010000
END:STANDARD
BEGIN:DAYLIGHT
TZOFFSETFROM:+0100
TZOFFSETTO:+0200
TZNAME:CEST
DTSTART:20260329T010000
END:DAYLIGHT
BEGIN:STANDARD
TZOFFSETFROM:+0200
TZOFFSETTO:+0100
TZNAME:CET
DTSTART:20261025T010000
END:STANDARD
BEGIN:DAYLIGHT
TZOFFSETFROM:+0100
TZOFFSETTO:+0200
TZNAME:CEST
DTSTART:20270328T010000
END:DAYLIGHT
BEGIN:STANDARD
TZOFFSETFROM:+0200
TZOFFSETTO:+0100
TZNAME:CET
DTSTART:20271031T010000
END:STANDARD
END:VTIMEZONE
BEGIN:VEVENT
DTSTART;VALUE=DATE:20260421
DTEND;VALUE=DATE:20260422
DTSTAMP:20260421T104641
CREATED:20260420T220315Z
LAST-MODIFIED:20260420T220317Z
UID:10000612-1776729600-1776815999@www.locansol.fr
SUMMARY:VERNISSAGE DE L'EXPOSITION « EXTRAITS DE RÊVES » - MARTINA VILLARD CHEZ ARABESQUE
DESCRIPTION:Le mardi 21 avril à 18h00\, la ville de Saint-Cyprien accueillera le vernissage de l’exposition « Extraits de rêves » de Martina Villard\, à la Maison Bleue. Ce rendez-vous artistique\, organisé par le Centre d’Art Arabesque\, promet une immersion dans des paysages colorés et poétiques\, où la nature rêvée se mêle à la mémoire et aux émotions. \nLe vernissage marquera le début d’une exposition temporaire qui se tiendra du mercredi 22 au samedi 25 avril. Les œuvres de Martina Villard seront présentées dans une atmosphère conviviale\, avec des sessions d’ouverture par les artistes de 10h à 12h et de 17h à 19h. Cet événement\, accessible à tous et gratuit\, est une opportunité unique de découvrir le travail de Martina Villard\, dont les créations sont reconnues pour leur douceur picturale et leur capacité à évoquer des souvenirs et des sentiments profonds. \nL’exposition « Extraits de rêves » se distingue par son ambiance poétique et ses paysages colorés qui invitent à la rêverie. Les visiteurs pourront apprécier la délicatesse des œuvres de Martina Villard\, qui mêlent habilement la nature et les émotions. L’événement est une occasion idéale pour les amateurs d’art de se plonger dans un univers artistique riche et inspirant. Le cadre de la Maison Bleue\, avec son charme et son histoire\, ajoute une dimension supplémentaire à cette expérience artistique. \nPour plus d’informations\, vous pouvez contacter l’organisateur au 06 47 92 61 32 ou par email à arabesquestcyp@gmail.com. Le Centre d’Art Arabesque est situé à la Maison Bleue\, 5 rue Jules Romains\, à Saint-Cyprien. \nEn résumé\, le vernissage de l’exposition « Extraits de rêves » de Martina Villard est un événement à ne pas manquer pour tous les amoureux de l’art et de la nature. C’est une invitation à la détente et à la contemplation\, dans un cadre accueillant et propice à la découverte artistique. \n \nRéservez votre hébergement dans les Pyrénées-Orientales :\nMobil-home Locansol à Argelès-sur-MerTrajet le plus court : 9 kmTrajet le plus rapide : 13 min \nChalet Locansol à EstavarTrajet le plus court : 112 kmTrajet le plus rapide : 1 h 46 min
URL:https://www.locansol.fr/evenement/vernissage-de-lexposition-extraits-de-reves-martina-villard-chez-arabesque/
LOCATION:Arabesque Centre d’Art Maison bleue\, 5 rue Jules Romains\, Saint-Cyprien\, Arabesque Centre d'Art Maison bleue\, 5 rue Jules Romains\, Saint-Cyprien\, 66750\, France
CATEGORIES:Évènement Culturel,Exposition,Pyrénées-Orientales
ATTACH;FMTTYPE=image/webp:https://www.locansol.fr/wp-content/uploads/2026/04/vernissage-culturel-saint-cyprien-art.webp
END:VEVENT
END:VCALENDAR