BEGIN:VCALENDAR
VERSION:2.0
PRODID:-//Locansol, louer un hébergement dans les Pyrénées Orientales - ECPv6.15.13.1//NONSGML v1.0//EN
CALSCALE:GREGORIAN
METHOD:PUBLISH
X-WR-CALNAME:Locansol, louer un hébergement dans les Pyrénées Orientales
X-ORIGINAL-URL:https://www.locansol.fr
X-WR-CALDESC:Évènements pour Locansol, louer un hébergement dans les Pyrénées Orientales
REFRESH-INTERVAL;VALUE=DURATION:PT1H
X-Robots-Tag:noindex
X-PUBLISHED-TTL:PT1H
BEGIN:VTIMEZONE
TZID:Europe/Paris
BEGIN:DAYLIGHT
TZOFFSETFROM:+0100
TZOFFSETTO:+0200
TZNAME:CEST
DTSTART:20250330T010000
END:DAYLIGHT
BEGIN:STANDARD
TZOFFSETFROM:+0200
TZOFFSETTO:+0100
TZNAME:CET
DTSTART:20251026T010000
END:STANDARD
BEGIN:DAYLIGHT
TZOFFSETFROM:+0100
TZOFFSETTO:+0200
TZNAME:CEST
DTSTART:20260329T010000
END:DAYLIGHT
BEGIN:STANDARD
TZOFFSETFROM:+0200
TZOFFSETTO:+0100
TZNAME:CET
DTSTART:20261025T010000
END:STANDARD
BEGIN:DAYLIGHT
TZOFFSETFROM:+0100
TZOFFSETTO:+0200
TZNAME:CEST
DTSTART:20270328T010000
END:DAYLIGHT
BEGIN:STANDARD
TZOFFSETFROM:+0200
TZOFFSETTO:+0100
TZNAME:CET
DTSTART:20271031T010000
END:STANDARD
END:VTIMEZONE
BEGIN:VEVENT
DTSTART;VALUE=DATE:20260406
DTEND;VALUE=DATE:20260811
DTSTAMP:20260421T175454
CREATED:20260406T142552Z
LAST-MODIFIED:20260406T142556Z
UID:10000498-1775433600-1786406399@www.locansol.fr
SUMMARY:DEGUSTATION VINS & TAPAS AU DOMAINE BISCONTE
DESCRIPTION:Dégustation de vins et tapas au Domaine Bisconte  Venez découvrir les vins du Domaine Bisconte lors d’une dégustation conviviale accompagnée de tapas préparées avec des produits locaux. Au programme : découverte des vins du domaine\, présentation des cépages et méthodes de vinification\, dégustation commentée et initiation aux arômes et techniques de dégustation. Les commentaires du vigneron sont uniquement en français. Réservation obligatoire (à partir de 16 ans). Inscription et paiement en ligne ou dans un de nos 6 offices de tourisme. Pas d’inscription ni de paiement sur place. Minimum 5 personnes pour que l’animation ait lieu. Plein tarif : 15\,00 €. Chemin du Salitar\, Saint-Génis-des-Fontaines.  Le Domaine Bisconte\, situé à Saint-Génis-des-Fontaines\, est un domaine viticole familial qui se distingue par la qualité de ses vins et l’accueil chaleureux de ses visiteurs. Le vigneron\, passionné par son métier\, supervise chaque étape de la vinification\, de la sélection des cépages à la mise en bouteille. Le domaine propose régulièrement des événements pour faire découvrir ses vins et partager son savoir-faire. Les dégustations sont l’occasion idéale d’échanger avec le vigneron\, de comprendre son travail et de savourer des cuvées issues des terroirs des Albères. Le domaine offre une expérience unique\, permettant de découvrir les secrets des vins du domaine à travers une dégustation de plusieurs cuvées. Les informations détaillées sur l’historique du domaine\, les différents cépages cultivés\, les variétés de vins produits\, et les modalités pratiques d’accueil et d’hébergement sont disponibles sur le site du domaine.  Vous êtes invités à participer à une dégustation de vins et tapas mettant en avant des produits locaux\, chaque lundi du 6 avril au 10 août. C’est une occasion unique de dialoguer avec des vignerons passionnés\, d’appréhender leur savoir-faire et de déguster des cuvées authentiques provenant des terroirs des Albères\, le tout dans une ambiance simple et chaleureuse. Le domaine propose une expérience unique\, permettant de découvrir les secrets des vins du domaine à travers une dégustation de plusieurs cuvées. Le vigneron\, passionné par son métier\, supervise chaque étape de la vinification\, de la sélection des cépages à la mise en bouteille. Le domaine propose régulièrement des événements pour faire découvrir ses vins et partager son savoir-faire. Les dégustations sont l’occasion idéale d’échanger avec le vigneron\, de comprendre son travail et de savourer des cuvées issues des terroirs des Albères. Le domaine offre une expérience unique\, permettant de découvrir les secrets des vins du domaine à travers une dégustation de plusieurs cuvées.  Le Domaine Bisconte\, situé à Saint-Génis-des-Fontaines\, est un domaine viticole familial qui se distingue par la qualité de ses vins et l’accueil chaleureux de ses visiteurs. Le vigneron\, passionné par son métier\, supervise chaque étape de la vinification\, de la sélection des cépages à la mise en bouteille. Le domaine propose régulièrement des événements pour faire découvrir ses vins et partager son savoir-faire. Les dégustations sont l’occasion idéale d’échanger avec le vigneron\, de comprendre son travail et de savourer des cuvées issues des terroirs des Albères. Le domaine offre une expérience unique\, permettant de découvrir les secrets des vins du domaine à travers une dégustation de plusieurs cuvées. Les informations détaillées sur l’historique du domaine\, les différents cépages cultivés\, les variétés de vins produits\, et les modalités pratiques d’accueil et d’hébergement sont disponibles sur le site du domaine.  Vous êtes invités à participer à une dégustation de vins et tapas mettant en avant des produits locaux\, chaque lundi du 6 avril au 10 août. C’est une occasion unique de dialoguer avec des vignerons passionnés\, d’appréhender leur savoir-faire et de déguster des cuvées authentiques provenant des terroirs des Albères\, le tout dans une ambiance simple et chaleureuse. Le domaine propose une expérience unique\, permettant de découvrir les secrets des vins du domaine à travers une dégustation de plusieurs cuvées. Le vigneron\, passionné par son métier\, supervise chaque étape de la vinification\, de la sélection des cépages à la mise en bouteille. Le domaine propose régulièrement des événements pour faire découvrir ses vins et partager son savoir-faire. Les dégustations sont l’occasion idéale d’échanger avec le vigneron\, de comprendre son travail et de savourer des cuvées issues des terroirs des Albères. Le domaine offre une expérience unique\, permettant de découvrir les secrets des vins du domaine à travers une dégustation de plusieurs cuvées. \n \nRéservez votre hébergement dans les Pyrénées-Orientales :\nMobil-home Locansol à Argelès-sur-MerTrajet le plus court : 12 kmTrajet le plus rapide : 14 min \nChalet Locansol à EstavarTrajet le plus court : 106 kmTrajet le plus rapide : 1 h 51 min
URL:https://www.locansol.fr/evenement/degustation-vins-tapas-au-domaine-bisconte/
LOCATION:Chemin du Salitar\, Saint-Génis-des-Fontaines\, Chemin du Salitar\, Saint-Génis-des-Fontaines\, 66740\, France
CATEGORIES:Pyrénées-Orientales,Terroir,Vin / Oenologie
ATTACH;FMTTYPE=image/webp:https://www.locansol.fr/wp-content/uploads/2026/04/degustation-vins-tapas-bisconte.webp
END:VEVENT
END:VCALENDAR