BEGIN:VCALENDAR
VERSION:2.0
PRODID:-//Locansol, louer un hébergement dans les Pyrénées Orientales - ECPv6.15.13.1//NONSGML v1.0//EN
CALSCALE:GREGORIAN
METHOD:PUBLISH
X-WR-CALNAME:Locansol, louer un hébergement dans les Pyrénées Orientales
X-ORIGINAL-URL:https://www.locansol.fr
X-WR-CALDESC:Évènements pour Locansol, louer un hébergement dans les Pyrénées Orientales
REFRESH-INTERVAL;VALUE=DURATION:PT1H
X-Robots-Tag:noindex
X-PUBLISHED-TTL:PT1H
BEGIN:VTIMEZONE
TZID:Europe/Paris
BEGIN:DAYLIGHT
TZOFFSETFROM:+0100
TZOFFSETTO:+0200
TZNAME:CEST
DTSTART:20250330T010000
END:DAYLIGHT
BEGIN:STANDARD
TZOFFSETFROM:+0200
TZOFFSETTO:+0100
TZNAME:CET
DTSTART:20251026T010000
END:STANDARD
BEGIN:DAYLIGHT
TZOFFSETFROM:+0100
TZOFFSETTO:+0200
TZNAME:CEST
DTSTART:20260329T010000
END:DAYLIGHT
BEGIN:STANDARD
TZOFFSETFROM:+0200
TZOFFSETTO:+0100
TZNAME:CET
DTSTART:20261025T010000
END:STANDARD
BEGIN:DAYLIGHT
TZOFFSETFROM:+0100
TZOFFSETTO:+0200
TZNAME:CEST
DTSTART:20270328T010000
END:DAYLIGHT
BEGIN:STANDARD
TZOFFSETFROM:+0200
TZOFFSETTO:+0100
TZNAME:CET
DTSTART:20271031T010000
END:STANDARD
END:VTIMEZONE
BEGIN:VEVENT
DTSTART;VALUE=DATE:20260326
DTEND;VALUE=DATE:20260327
DTSTAMP:20260420T103740
CREATED:20260326T090841Z
LAST-MODIFIED:20260326T090844Z
UID:10000427-1774483200-1774569599@www.locansol.fr
SUMMARY:SUZANNE VEGA + 1ÈRE PARTIE
DESCRIPTION:En 2026\, Suzanne Vega poursuit une tournée intensive qui l’amène à travers le monde. Après une série de concerts aux États-Unis\, elle se produira dans divers pays européens\, ainsi qu’en Australie et en Nouvelle-Zélande. Cette tournée\, intitulée « Flying With Angels Tour 2026 »\, célèbre la sortie de son nouvel album et offre aux fans une occasion unique de découvrir ses nouvelles chansons en live. Les dates de tournée et les informations sur les billets sont disponibles sur son site officiel et diverses plateformes de vente de billets. Suzanne Vega\, célèbre pour ses titres emblématiques comme « Tom’s Diner » et « Luka »\, revient en France pour une tournée exceptionnelle au printemps 2026. Elle se produira à Perpignan le jeudi 26 mars à 20h30\, à l’El Mediator. Cette tournée marque le retour de Suzanne Vega sur la scène française\, où elle retracera toute sa carrière. Depuis son premier album éponyme en 1985\, elle enchaîne les concerts à guichets fermés. Elle est considérée comme une voix essentielle et singulière de la scène folk internationale. Le concert de Perpignan promet d’être un moment fort de cette tournée. Suzanne Vega interprétera ses titres cultes ainsi que des morceaux de son tout nouvel album\, « Flying with Angels »\, sorti en mai 2025. Cet album\, produit par Gerry Leonard\, fidèle collaborateur et guitariste de David Bowie et Rufus Wainwright\, a été salué par la critique\, notamment par Rolling Stone\, qui le décrit comme « riche\, surprenant et réussi ». Le concert à l’El Mediator sera l’occasion de découvrir ou redécouvrir l’univers musical de Suzanne Vega. Ses chansons\, à la fois poétiques et engagées\, résonnent avec une intensité particulière en live. Accompagnée de musiciens talentueux\, elle offrira une performance intimiste et émouvante\, fidèle à son style folk reconnaissable entre tous. L’El Mediator\, salle emblématique de Perpignan\, offre un cadre idéal pour ce concert. Sa capacité moyenne permet une proximité avec les artistes\, tout en offrant une acoustique de qualité. Les spectateurs pourront ainsi profiter pleinement de la voix envoûtante de Suzanne Vega et de ses compositions délicates. Les billets pour ce concert sont disponibles à des tarifs allant de 28\,80 € à 32\,00 €. Il est conseillé de réserver à l’avance\, car les places pourraient rapidement se vendre. Ce concert est une opportunité unique pour les amateurs de musique folk et les fans de Suzanne Vega. C’est l’occasion de vivre une soirée musicale inoubliable\, marquée par la sensibilité et le talent d’une artiste exceptionnelle. La tournée 2026 de Suzanne Vega est un événement à ne pas manquer pour tous les mélomanes. Suzanne Vega\, avec sa voix douce et ses textes poignants\, continue de captiver le public depuis plus de trois décennies. Son retour en France est attendu avec impatience par ses nombreux admirateurs. Ce concert à Perpignan promet d’être un moment magique\, à la hauteur de son talent et de sa carrière impressionnante. Pour plus d’informations sur la tournée et les billets\, vous pouvez consulter le site officiel de Suzanne Vega ou les plateformes de vente de billets en ligne. Ne manquez pas cette chance de voir une légende de la musique folk en live ! \n \nRéservez votre hébergement dans les Pyrénées-Orientales :\nMobil-home Locansol à Argelès-sur-MerTrajet le plus court : 26 kmTrajet le plus rapide : 31 min \nChalet Locansol à EstavarTrajet le plus court : 104 kmTrajet le plus rapide : 1 h 40 min
URL:https://www.locansol.fr/evenement/suzanne-vega-1ere-partie/
LOCATION:ELMEDIATOR\, Perpignan\, ELMEDIATOR\, 66410\, France
CATEGORIES:Chant,Concert,Évènement Culturel,Loisirs,Musique,Pyrénées-Orientales,Spectacle
ATTACH;FMTTYPE=image/webp:https://www.locansol.fr/wp-content/uploads/2026/03/concert-suzanne-vega-perpignan.webp
END:VEVENT
BEGIN:VEVENT
DTSTART;VALUE=DATE:20260319
DTEND;VALUE=DATE:20260320
DTSTAMP:20260420T103740
CREATED:20260319T070942Z
LAST-MODIFIED:20260319T070945Z
UID:10000386-1773878400-1773964799@www.locansol.fr
SUMMARY:GRANDMA'S ASHES + KICKS
DESCRIPTION:Résumé de l’événement : \nLe jeudi 19 mars à 20h30\, préparez-vous pour une soirée musicale intense à Elmediator\, Perpignan\, avec les groupes Grandma’s Ashes et Kicks. Grandma’s Ashes\, un trio de rock féminin parisien\, est connu pour son énergie brute et ses textes poétiques et engagés. Leur nouvel album « BRUXISM » explore les tensions intérieures et les colères du monde contemporain\, mêlant grunge\, new wave et alternative rock. Kicks\, quant à lui\, propose des mélodies post new wave électrisantes et envoûtantes\, plongeant le public dans une atmosphère intense et émotionnelle. \nProgramme de la soirée : \nLa soirée débutera avec Grandma’s Ashes\, qui présentera ses nouveaux morceaux de l’album « BRUXISM ». Leur performance promet d’être un moment fort\, porté par la puissance de leurs compositions et la rage féminine qui les caractérise. Ensuite\, Kicks prendra le relais avec ses compositions envoûtantes\, marquées par des tonalités stridentes et une esthétique sonore unique. \nRaisons de s’y rendre : \nCet événement est une occasion unique de découvrir deux groupes aux univers musicaux distincts mais complémentaires. Grandma’s Ashes offre une expérience live intense\, tandis que Kicks vous transporte dans une ambiance post new wave envoûtante. Le cadre d’Elmediator\, salle emblématique de Perpignan\, ajoute une dimension spéciale à cette soirée\, promettant une immersion totale dans la musique. Ne manquez pas cette opportunité de vivre un moment musical exceptionnel à un prix accessible de 2\,00 €. \nInformations pratiques : \nDate : Jeudi 19 marsHeure : 20h30Lieu : Elmediator\, Avenue du Général Leclerc\, 66000 PerpignanTarif : 2\,00 € \n \nRéservez votre hébergement dans les Pyrénées-Orientales :\nMobil-home Locansol à Argelès-sur-MerTrajet le plus court : 26 kmTrajet le plus rapide : 31 min \nChalet Locansol à EstavarTrajet le plus court : 104 kmTrajet le plus rapide : 1 h 40 min
URL:https://www.locansol.fr/evenement/grandmas-ashes-kicks/
LOCATION:ELMEDIATOR\, Perpignan\, ELMEDIATOR\, 66410\, France
CATEGORIES:Chant,Concert,Évènement Culturel,Loisirs,Musique,Pyrénées-Orientales,Spectacle
ATTACH;FMTTYPE=image/webp:https://www.locansol.fr/wp-content/uploads/2026/03/concert-rock-perpignan-live.webp
END:VEVENT
END:VCALENDAR