BEGIN:VCALENDAR
VERSION:2.0
PRODID:-//Locansol, louer un hébergement dans les Pyrénées Orientales - ECPv6.15.13.1//NONSGML v1.0//EN
CALSCALE:GREGORIAN
METHOD:PUBLISH
X-ORIGINAL-URL:https://www.locansol.fr
X-WR-CALDESC:Évènements pour Locansol, louer un hébergement dans les Pyrénées Orientales
REFRESH-INTERVAL;VALUE=DURATION:PT1H
X-Robots-Tag:noindex
X-PUBLISHED-TTL:PT1H
BEGIN:VTIMEZONE
TZID:Europe/Paris
BEGIN:DAYLIGHT
TZOFFSETFROM:+0100
TZOFFSETTO:+0200
TZNAME:CEST
DTSTART:20250330T010000
END:DAYLIGHT
BEGIN:STANDARD
TZOFFSETFROM:+0200
TZOFFSETTO:+0100
TZNAME:CET
DTSTART:20251026T010000
END:STANDARD
BEGIN:DAYLIGHT
TZOFFSETFROM:+0100
TZOFFSETTO:+0200
TZNAME:CEST
DTSTART:20260329T010000
END:DAYLIGHT
BEGIN:STANDARD
TZOFFSETFROM:+0200
TZOFFSETTO:+0100
TZNAME:CET
DTSTART:20261025T010000
END:STANDARD
BEGIN:DAYLIGHT
TZOFFSETFROM:+0100
TZOFFSETTO:+0200
TZNAME:CEST
DTSTART:20270328T010000
END:DAYLIGHT
BEGIN:STANDARD
TZOFFSETFROM:+0200
TZOFFSETTO:+0100
TZNAME:CET
DTSTART:20271031T010000
END:STANDARD
END:VTIMEZONE
BEGIN:VEVENT
DTSTART;VALUE=DATE:20260213
DTEND;VALUE=DATE:20260214
DTSTAMP:20260423T125037
CREATED:20260213T020510Z
LAST-MODIFIED:20260213T020510Z
UID:10000037-1770940800-1771027199@www.locansol.fr
SUMMARY:FESTIVAL JAZZEBRE : LAURA PERRUDIN SOLO
DESCRIPTION:Le festival Jazzèbre accueille Laura Perrudin pour un concert solo le vendredi 13 février 2026 à 19 h\, sur le Parvis Martin Boix à Palalda\, dans le cadre du Musée Al Casal. Cette artiste bretonne\, harpiste\, chanteuse et compositrice\, s’est imposée sur la scène musicale depuis la sortie de son premier album\, « Impressions »\, en 2015. Réputée pour sa musicalité épurée et son approche sensible du chant\, elle mêle guitare classique\, harpe celtique et voix dans un univers où les textures sonores se fondent dans un dépouillement intime. Pour ce concert baptisé « Tempus »\, elle explore un style hybride : néo-soul impressionniste\, folk-jazz minimaliste\, avec des touches de noise-blues métaphysique. L’absence de rythme imposé et la centralité de la respiration donnent à la performance une dimension contemplative. L’entrée est gratuite. Le lieu\, le Musée Al Casal\, est un espace rénové dédié aux arts contemporains\, qui abrite aussi une exposition permanente sur l’architecte Charles Rennie Mackintosh. Ce concert s’inscrit dans une programmation culturelle locale tournée vers les créations musicales expérimentales et les rencontres intimistes. Il propose une expérience unique\, à la fois poétique et sensorielle\, qui invite à l’écoute profonde dans un cadre historique et architectural aux influences modernistes. \n \nRéservez votre hébergement dans les Pyrénées-Orientales :\nMobil-home Locansol à Argelès-sur-MerTrajet le plus court : 36 kmTrajet le plus rapide : 41 min \nChalet Locansol à EstavarTrajet le plus court : 128 kmTrajet le plus rapide : 2 h 2 min
URL:https://www.locansol.fr/evenement/festival-jazzebre-laura-perrudin-solo/
LOCATION:Parvis Martin Boix – Palalda\, Amélie-les-Bains-Palalda\, Parvis Martin Boix - Palalda\, Amélie-les-Bains-Palalda\, 66110\, France
CATEGORIES:Chant,Concert,Évènement Culturel,Musique
ATTACH;FMTTYPE=image/webp:https://www.locansol.fr/wp-content/uploads/2026/02/concert-jazz-amelie-bains.webp
END:VEVENT
END:VCALENDAR