BEGIN:VCALENDAR
VERSION:2.0
PRODID:-//Locansol, louer un hébergement dans les Pyrénées Orientales - ECPv6.15.13.1//NONSGML v1.0//EN
CALSCALE:GREGORIAN
METHOD:PUBLISH
X-WR-CALNAME:Locansol, louer un hébergement dans les Pyrénées Orientales
X-ORIGINAL-URL:https://www.locansol.fr
X-WR-CALDESC:Évènements pour Locansol, louer un hébergement dans les Pyrénées Orientales
REFRESH-INTERVAL;VALUE=DURATION:PT1H
X-Robots-Tag:noindex
X-PUBLISHED-TTL:PT1H
BEGIN:VTIMEZONE
TZID:Europe/Paris
BEGIN:DAYLIGHT
TZOFFSETFROM:+0100
TZOFFSETTO:+0200
TZNAME:CEST
DTSTART:20250330T010000
END:DAYLIGHT
BEGIN:STANDARD
TZOFFSETFROM:+0200
TZOFFSETTO:+0100
TZNAME:CET
DTSTART:20251026T010000
END:STANDARD
BEGIN:DAYLIGHT
TZOFFSETFROM:+0100
TZOFFSETTO:+0200
TZNAME:CEST
DTSTART:20260329T010000
END:DAYLIGHT
BEGIN:STANDARD
TZOFFSETFROM:+0200
TZOFFSETTO:+0100
TZNAME:CET
DTSTART:20261025T010000
END:STANDARD
BEGIN:DAYLIGHT
TZOFFSETFROM:+0100
TZOFFSETTO:+0200
TZNAME:CEST
DTSTART:20270328T010000
END:DAYLIGHT
BEGIN:STANDARD
TZOFFSETFROM:+0200
TZOFFSETTO:+0100
TZNAME:CET
DTSTART:20271031T010000
END:STANDARD
END:VTIMEZONE
BEGIN:VEVENT
DTSTART;VALUE=DATE:20260412
DTEND;VALUE=DATE:20260413
DTSTAMP:20260421T184033
CREATED:20260412T041647Z
LAST-MODIFIED:20260412T041653Z
UID:10000561-1775952000-1776038399@www.locansol.fr
SUMMARY:SALON DU BIEN-ÊTRE
DESCRIPTION:Le Salon du Bien-Être de Canohès se tiendra les 11 et 12 avril 2026. Cet événement\, situé au complexe de l’ASPTT sur la route de Toulouges\, promet d’être un rendez-vous incontournable pour tous les amateurs de bien-être et de développement personnel. L’entrée est gratuite\, offrant ainsi à tous la possibilité de découvrir une multitude de stands et d’activités.  Le salon proposera une variété impressionnante de stands\, avec plus de 60 exposants. Les visiteurs pourront explorer des domaines tels que les minéraux\, les thérapies naturelles\, les produits bio et naturels\, ainsi que les arts divinatoires. Des conférences et des ateliers seront également organisés\, permettant aux participants d’approfondir leurs connaissances et de s’initier à de nouvelles pratiques. Une tombola et un service de restauration compléteront l’expérience\, assurant une journée riche et agréable.  L’événement se distingue par son authenticité et ses valeurs de bienveillance\, de joie\, de bonheur\, de fraternité\, d’amour et de paix. Les exposants sont sélectionnés avec soin pour garantir la qualité et la diversité des offres. Parmi les intervenants\, Dominique Cassar\, artiste locale\, proposera du sel aromatisé aux épices.  Le Salon du Bien-Être de Canohès est une occasion unique de se ressourcer et de découvrir des pratiques bénéfiques pour le corps et l’esprit. Que vous soyez passionné de bien-être ou simplement curieux\, cet événement saura vous séduire par son ambiance chaleureuse et ses activités enrichissantes. L’entrée est gratuite\, alors n’hésitez pas à venir profiter de cette expérience bienfaisante.  Horaires :  Samedi 11 avril : 11h00 à 19h00 Dimanche 12 avril : 10h00 à 18h00  Ne manquez pas cette opportunité de vous détendre et de vous informer sur les dernières tendances en matière de bien-être et de développement personnel. \n \nRéservez votre hébergement dans les Pyrénées-Orientales :\nMobil-home Locansol à Argelès-sur-MerTrajet le plus court : 28 kmTrajet le plus rapide : 26 min \nChalet Locansol à EstavarTrajet le plus court : 93 kmTrajet le plus rapide : 1 h 31 min
URL:https://www.locansol.fr/evenement/salon-du-bien-etre/
LOCATION:Route de Toulouges\, Canohès\, Route de Toulouges\, Canohès\, 66680\, France
CATEGORIES:Bien-être,Loisirs,Pyrénées-Orientales,Salon
ATTACH;FMTTYPE=image/webp:https://www.locansol.fr/wp-content/uploads/2026/04/salon-bien-etre-canohes-2026.webp
END:VEVENT
END:VCALENDAR