BEGIN:VCALENDAR
VERSION:2.0
PRODID:-//Locansol, louer un hébergement dans les Pyrénées Orientales - ECPv6.15.13.1//NONSGML v1.0//EN
CALSCALE:GREGORIAN
METHOD:PUBLISH
X-WR-CALNAME:Locansol, louer un hébergement dans les Pyrénées Orientales
X-ORIGINAL-URL:https://www.locansol.fr
X-WR-CALDESC:Évènements pour Locansol, louer un hébergement dans les Pyrénées Orientales
REFRESH-INTERVAL;VALUE=DURATION:PT1H
X-Robots-Tag:noindex
X-PUBLISHED-TTL:PT1H
BEGIN:VTIMEZONE
TZID:Europe/Paris
BEGIN:DAYLIGHT
TZOFFSETFROM:+0100
TZOFFSETTO:+0200
TZNAME:CEST
DTSTART:20250330T010000
END:DAYLIGHT
BEGIN:STANDARD
TZOFFSETFROM:+0200
TZOFFSETTO:+0100
TZNAME:CET
DTSTART:20251026T010000
END:STANDARD
BEGIN:DAYLIGHT
TZOFFSETFROM:+0100
TZOFFSETTO:+0200
TZNAME:CEST
DTSTART:20260329T010000
END:DAYLIGHT
BEGIN:STANDARD
TZOFFSETFROM:+0200
TZOFFSETTO:+0100
TZNAME:CET
DTSTART:20261025T010000
END:STANDARD
BEGIN:DAYLIGHT
TZOFFSETFROM:+0100
TZOFFSETTO:+0200
TZNAME:CEST
DTSTART:20270328T010000
END:DAYLIGHT
BEGIN:STANDARD
TZOFFSETFROM:+0200
TZOFFSETTO:+0100
TZNAME:CET
DTSTART:20271031T010000
END:STANDARD
END:VTIMEZONE
BEGIN:VEVENT
DTSTART;VALUE=DATE:20260314
DTEND;VALUE=DATE:20260315
DTSTAMP:20260422T124438
CREATED:20260314T151113Z
LAST-MODIFIED:20260314T151116Z
UID:10000364-1773446400-1773532799@www.locansol.fr
SUMMARY:FÊTE DE LA SAINT PATRICK
DESCRIPTION:Le samedi 14 mars à 18:30\, Banyuls-sur-Mer célèbrera la Fête de la Saint-Patrick avec une soirée spéciale organisée par Casa Danse et L’Ouranole. L’événement\, qui se tiendra à la Salle Bartissol\, promet une ambiance festive et conviviale\, avec une entrée libre pour tous les participants. La fête de la Saint-Patrick\, célébrée chaque année le 17 mars\, est une fête chrétienne qui honore saint Patrick\, le patron de l’Irlande. Cette célébration\, initialement religieuse\, est devenue un événement mondial symbolisant l’unité et la fierté irlandaises. Elle est marquée par des défilés\, de la musique et une atmosphère joyeuse\, avec le vert comme couleur emblématique. À Banyuls-sur-Mer\, la soirée débutera avec la retransmission du match France/Angleterre du Tournoi des 6 Nations\, un événement sportif très attendu. Les festivités se poursuivront avec l’élection du plus beau costume\, une animation musicale assurée par Thomas Claisse\, et une buvette pour se désaltérer. Côté repas\, les participants pourront déguster un « Coddle » (potée irlandaise) accompagné de fromage et d’une boisson pour 12€\, ou opter pour une assiette de charcuterie\, fromage et « pan con tomate » à 8€. Des gâteaux seront également disponibles à 2€. Il est recommandé de réserver son repas avant le 9 mars en contactant Nathalie au 06.86.18.62.96 ou Martine au 06.82.58.64.13. La Fête de la Saint-Patrick à Banyuls-sur-Mer est une occasion unique de célébrer la culture irlandaise dans une ambiance chaleureuse et festive. Que vous soyez amateur de sport\, de musique ou simplement curieux de découvrir les traditions irlandaises\, cette soirée est faite pour vous. Ne manquez pas cette opportunité de partager un moment convivial avec la communauté locale et de profiter des animations variées proposées. \n \nRéservez votre hébergement dans les Pyrénées-Orientales :\nMobil-home Locansol à Argelès-sur-MerTrajet le plus court : 17 kmTrajet le plus rapide : 22 min \nChalet Locansol à EstavarTrajet le plus court : 133 kmTrajet le plus rapide : 2 h 3 min
URL:https://www.locansol.fr/evenement/fete-de-la-saint-patrick/
LOCATION:Rue des Angles\, Banyuls-sur-Mer\, Rue des Angles\, Banyuls-sur-Mer\, 66650\, France
CATEGORIES:Concert,Évènement Culturel,Musique,Pyrénées-Orientales
ATTACH;FMTTYPE=image/webp:https://www.locansol.fr/wp-content/uploads/2026/03/saint-patrick-banyuls-sur-mer-fete.webp
END:VEVENT
END:VCALENDAR