BEGIN:VCALENDAR
VERSION:2.0
PRODID:-//Locansol, louer un hébergement dans les Pyrénées Orientales - ECPv6.15.13.1//NONSGML v1.0//EN
CALSCALE:GREGORIAN
METHOD:PUBLISH
X-WR-CALNAME:Locansol, louer un hébergement dans les Pyrénées Orientales
X-ORIGINAL-URL:https://www.locansol.fr
X-WR-CALDESC:Évènements pour Locansol, louer un hébergement dans les Pyrénées Orientales
REFRESH-INTERVAL;VALUE=DURATION:PT1H
X-Robots-Tag:noindex
X-PUBLISHED-TTL:PT1H
BEGIN:VTIMEZONE
TZID:Europe/Paris
BEGIN:DAYLIGHT
TZOFFSETFROM:+0100
TZOFFSETTO:+0200
TZNAME:CEST
DTSTART:20250330T010000
END:DAYLIGHT
BEGIN:STANDARD
TZOFFSETFROM:+0200
TZOFFSETTO:+0100
TZNAME:CET
DTSTART:20251026T010000
END:STANDARD
BEGIN:DAYLIGHT
TZOFFSETFROM:+0100
TZOFFSETTO:+0200
TZNAME:CEST
DTSTART:20260329T010000
END:DAYLIGHT
BEGIN:STANDARD
TZOFFSETFROM:+0200
TZOFFSETTO:+0100
TZNAME:CET
DTSTART:20261025T010000
END:STANDARD
BEGIN:DAYLIGHT
TZOFFSETFROM:+0100
TZOFFSETTO:+0200
TZNAME:CEST
DTSTART:20270328T010000
END:DAYLIGHT
BEGIN:STANDARD
TZOFFSETFROM:+0200
TZOFFSETTO:+0100
TZNAME:CET
DTSTART:20271031T010000
END:STANDARD
END:VTIMEZONE
BEGIN:VEVENT
DTSTART;VALUE=DATE:20260221
DTEND;VALUE=DATE:20260222
DTSTAMP:20260421T173746
CREATED:20260221T110627Z
LAST-MODIFIED:20260221T110630Z
UID:10000181-1771632000-1771718399@www.locansol.fr
SUMMARY:CARNAVAL DE SAHORRE
DESCRIPTION:Le Carnaval de Sahorre est un événement festif et familial qui se tiendra le samedi 21 février 2026\, de 19:30 à 22:00\, à Sahorre\, dans les Pyrénées-Orientales. Cet événement promet une soirée conviviale et chaleureuse\, idéale pour les enfants et les amateurs de loisirs.  Le carnaval de Sahorre est un événement festif qui célèbre la tradition du carnaval dans une ambiance conviviale et familiale. La soirée débutera à 19:30 avec un repas sur réservation. Au menu\, les participants pourront déguster une salade\, des boles de picoulat (une spécialité locale à base de viande hachée)\, une tarte aux pommes\, le tout accompagné d’un verre de vin ou de jus de pomme. Les convives sont invités à apporter leurs propres couverts pour partager ce moment de convivialité.  Le Carnaval de Sahorre est une occasion unique de profiter d’une soirée festive en famille ou entre amis. L’ambiance chaleureuse et conviviale\, ainsi que le repas typique\, en font un événement incontournable pour ceux qui souhaitent découvrir les traditions locales tout en passant un moment agréable. Ne manquez pas cette opportunité de vous plonger dans l’atmosphère joyeuse et colorée de ce carnaval\, où la bonne humeur et le partage sont au rendez-vous.  Pour participer au repas\, le tarif est de 18\,00 € par personne. Les réservations sont obligatoires\, et il est conseillé de s’inscrire rapidement pour garantir sa place. Le carnaval de Sahorre est une fête traditionnelle qui attire chaque année de nombreux visiteurs\, venus célébrer ensemble cette période festive. Les écoliers de Sahorre participent également activement à cet événement\, invitant familles et amis à partager un moment de joie et de convivialité. La commune de Sahorre\, nichée dans les Pyrénées-Orientales\, est connue pour ses fêtes traditionnelles\, comme la Fête de la Rotjà\, qui célèbre la vallée de la pomme. Ces événements sont l’occasion de découvrir les savoir-faire locaux et de s’immerger dans la culture catalane. Le Carnaval de Sahorre est un moment fort de l’année\, où la communauté se rassemble pour célébrer ensemble dans une ambiance festive et chaleureuse. \n \nRéservez votre hébergement dans les Pyrénées-Orientales :\nMobil-home Locansol à Argelès-sur-MerTrajet le plus court : 61 kmTrajet le plus rapide : 1 h 0 min \nChalet Locansol à EstavarTrajet le plus court : 65 kmTrajet le plus rapide : 1 h 14 min
URL:https://www.locansol.fr/evenement/carnaval-de-sahorre/
LOCATION:Sahorre\, Sahorre\, Pyrénées-Orientales\, France
CATEGORIES:Carnaval,Loisirs,Pour enfant,Pyrénées-Orientales
ATTACH;FMTTYPE=image/webp:https://www.locansol.fr/wp-content/uploads/2026/02/carnaval-sahorre-fete-famille.webp
END:VEVENT
END:VCALENDAR